BEGIN:VCALENDAR
VERSION:2.0
PRODID:-//Resonate Brewery - ECPv6.15.20//NONSGML v1.0//EN
CALSCALE:GREGORIAN
METHOD:PUBLISH
X-WR-CALNAME:Resonate Brewery
X-ORIGINAL-URL:https://resonatebrewery.com
X-WR-CALDESC:Events for Resonate Brewery
REFRESH-INTERVAL;VALUE=DURATION:PT1H
X-Robots-Tag:noindex
X-PUBLISHED-TTL:PT1H
BEGIN:VTIMEZONE
TZID:UTC
BEGIN:STANDARD
TZOFFSETFROM:+0000
TZOFFSETTO:+0000
TZNAME:UTC
DTSTART:20270101T000000
END:STANDARD
END:VTIMEZONE
BEGIN:VEVENT
DTSTART;TZID=UTC:20280222T193000
DTEND;TZID=UTC:20280222T213000
DTSTAMP:20260421T170654
CREATED:20241211T004152Z
LAST-MODIFIED:20241211T004152Z
UID:10002425-1834860600-1834867800@resonatebrewery.com
SUMMARY:Trivia Tuesday
DESCRIPTION:Geeks Who Drink hosts our trivia every Tuesday. Bring a team or just yourself but be sure to bring your “A-Game” and let the fun begin!
URL:https://resonatebrewery.com/index.php/event/test-event-2/2028-02-22/
ATTACH;FMTTYPE=image/webp:https://resonatebrewery.com/wp-content/uploads/2024/04/GWD.webp
END:VEVENT
BEGIN:VEVENT
DTSTART;TZID=UTC:20280229T193000
DTEND;TZID=UTC:20280229T213000
DTSTAMP:20260421T170654
CREATED:20241211T004152Z
LAST-MODIFIED:20241211T004152Z
UID:10002426-1835465400-1835472600@resonatebrewery.com
SUMMARY:Trivia Tuesday
DESCRIPTION:Geeks Who Drink hosts our trivia every Tuesday. Bring a team or just yourself but be sure to bring your “A-Game” and let the fun begin!
URL:https://resonatebrewery.com/index.php/event/test-event-2/2028-02-29/
ATTACH;FMTTYPE=image/webp:https://resonatebrewery.com/wp-content/uploads/2024/04/GWD.webp
END:VEVENT
BEGIN:VEVENT
DTSTART;TZID=UTC:20280307T193000
DTEND;TZID=UTC:20280307T213000
DTSTAMP:20260421T170654
CREATED:20241211T004152Z
LAST-MODIFIED:20241211T004152Z
UID:10002427-1836070200-1836077400@resonatebrewery.com
SUMMARY:Trivia Tuesday
DESCRIPTION:Geeks Who Drink hosts our trivia every Tuesday. Bring a team or just yourself but be sure to bring your “A-Game” and let the fun begin!
URL:https://resonatebrewery.com/index.php/event/test-event-2/2028-03-07/
ATTACH;FMTTYPE=image/webp:https://resonatebrewery.com/wp-content/uploads/2024/04/GWD.webp
END:VEVENT
BEGIN:VEVENT
DTSTART;TZID=UTC:20280314T193000
DTEND;TZID=UTC:20280314T213000
DTSTAMP:20260421T170654
CREATED:20241211T004152Z
LAST-MODIFIED:20241211T004152Z
UID:10002428-1836675000-1836682200@resonatebrewery.com
SUMMARY:Trivia Tuesday
DESCRIPTION:Geeks Who Drink hosts our trivia every Tuesday. Bring a team or just yourself but be sure to bring your “A-Game” and let the fun begin!
URL:https://resonatebrewery.com/index.php/event/test-event-2/2028-03-14/
ATTACH;FMTTYPE=image/webp:https://resonatebrewery.com/wp-content/uploads/2024/04/GWD.webp
END:VEVENT
BEGIN:VEVENT
DTSTART;TZID=UTC:20280321T193000
DTEND;TZID=UTC:20280321T213000
DTSTAMP:20260421T170654
CREATED:20241211T004152Z
LAST-MODIFIED:20241211T004152Z
UID:10002429-1837279800-1837287000@resonatebrewery.com
SUMMARY:Trivia Tuesday
DESCRIPTION:Geeks Who Drink hosts our trivia every Tuesday. Bring a team or just yourself but be sure to bring your “A-Game” and let the fun begin!
URL:https://resonatebrewery.com/index.php/event/test-event-2/2028-03-21/
ATTACH;FMTTYPE=image/webp:https://resonatebrewery.com/wp-content/uploads/2024/04/GWD.webp
END:VEVENT
BEGIN:VEVENT
DTSTART;TZID=UTC:20280328T193000
DTEND;TZID=UTC:20280328T213000
DTSTAMP:20260421T170654
CREATED:20241211T004152Z
LAST-MODIFIED:20241211T004152Z
UID:10002430-1837884600-1837891800@resonatebrewery.com
SUMMARY:Trivia Tuesday
DESCRIPTION:Geeks Who Drink hosts our trivia every Tuesday. Bring a team or just yourself but be sure to bring your “A-Game” and let the fun begin!
URL:https://resonatebrewery.com/index.php/event/test-event-2/2028-03-28/
ATTACH;FMTTYPE=image/webp:https://resonatebrewery.com/wp-content/uploads/2024/04/GWD.webp
END:VEVENT
BEGIN:VEVENT
DTSTART;TZID=UTC:20280404T193000
DTEND;TZID=UTC:20280404T213000
DTSTAMP:20260421T170654
CREATED:20241211T004152Z
LAST-MODIFIED:20241211T004152Z
UID:10002431-1838489400-1838496600@resonatebrewery.com
SUMMARY:Trivia Tuesday
DESCRIPTION:Geeks Who Drink hosts our trivia every Tuesday. Bring a team or just yourself but be sure to bring your “A-Game” and let the fun begin!
URL:https://resonatebrewery.com/index.php/event/test-event-2/2028-04-04/
ATTACH;FMTTYPE=image/webp:https://resonatebrewery.com/wp-content/uploads/2024/04/GWD.webp
END:VEVENT
BEGIN:VEVENT
DTSTART;TZID=UTC:20280411T193000
DTEND;TZID=UTC:20280411T213000
DTSTAMP:20260421T170654
CREATED:20241211T004152Z
LAST-MODIFIED:20241211T004152Z
UID:10002432-1839094200-1839101400@resonatebrewery.com
SUMMARY:Trivia Tuesday
DESCRIPTION:Geeks Who Drink hosts our trivia every Tuesday. Bring a team or just yourself but be sure to bring your “A-Game” and let the fun begin!
URL:https://resonatebrewery.com/index.php/event/test-event-2/2028-04-11/
ATTACH;FMTTYPE=image/webp:https://resonatebrewery.com/wp-content/uploads/2024/04/GWD.webp
END:VEVENT
BEGIN:VEVENT
DTSTART;TZID=UTC:20280418T193000
DTEND;TZID=UTC:20280418T213000
DTSTAMP:20260421T170654
CREATED:20241211T004152Z
LAST-MODIFIED:20241211T004152Z
UID:10002433-1839699000-1839706200@resonatebrewery.com
SUMMARY:Trivia Tuesday
DESCRIPTION:Geeks Who Drink hosts our trivia every Tuesday. Bring a team or just yourself but be sure to bring your “A-Game” and let the fun begin!
URL:https://resonatebrewery.com/index.php/event/test-event-2/2028-04-18/
ATTACH;FMTTYPE=image/webp:https://resonatebrewery.com/wp-content/uploads/2024/04/GWD.webp
END:VEVENT
BEGIN:VEVENT
DTSTART;TZID=UTC:20280425T193000
DTEND;TZID=UTC:20280425T213000
DTSTAMP:20260421T170654
CREATED:20241211T004152Z
LAST-MODIFIED:20241211T004152Z
UID:10002434-1840303800-1840311000@resonatebrewery.com
SUMMARY:Trivia Tuesday
DESCRIPTION:Geeks Who Drink hosts our trivia every Tuesday. Bring a team or just yourself but be sure to bring your “A-Game” and let the fun begin!
URL:https://resonatebrewery.com/index.php/event/test-event-2/2028-04-25/
ATTACH;FMTTYPE=image/webp:https://resonatebrewery.com/wp-content/uploads/2024/04/GWD.webp
END:VEVENT
BEGIN:VEVENT
DTSTART;TZID=UTC:20280502T193000
DTEND;TZID=UTC:20280502T213000
DTSTAMP:20260421T170654
CREATED:20241211T004152Z
LAST-MODIFIED:20241211T004152Z
UID:10002435-1840908600-1840915800@resonatebrewery.com
SUMMARY:Trivia Tuesday
DESCRIPTION:Geeks Who Drink hosts our trivia every Tuesday. Bring a team or just yourself but be sure to bring your “A-Game” and let the fun begin!
URL:https://resonatebrewery.com/index.php/event/test-event-2/2028-05-02/
ATTACH;FMTTYPE=image/webp:https://resonatebrewery.com/wp-content/uploads/2024/04/GWD.webp
END:VEVENT
BEGIN:VEVENT
DTSTART;TZID=UTC:20280509T193000
DTEND;TZID=UTC:20280509T213000
DTSTAMP:20260421T170654
CREATED:20241211T004152Z
LAST-MODIFIED:20241211T004152Z
UID:10002436-1841513400-1841520600@resonatebrewery.com
SUMMARY:Trivia Tuesday
DESCRIPTION:Geeks Who Drink hosts our trivia every Tuesday. Bring a team or just yourself but be sure to bring your “A-Game” and let the fun begin!
URL:https://resonatebrewery.com/index.php/event/test-event-2/2028-05-09/
ATTACH;FMTTYPE=image/webp:https://resonatebrewery.com/wp-content/uploads/2024/04/GWD.webp
END:VEVENT
BEGIN:VEVENT
DTSTART;TZID=UTC:20280516T193000
DTEND;TZID=UTC:20280516T213000
DTSTAMP:20260421T170654
CREATED:20241211T004152Z
LAST-MODIFIED:20241211T004152Z
UID:10002437-1842118200-1842125400@resonatebrewery.com
SUMMARY:Trivia Tuesday
DESCRIPTION:Geeks Who Drink hosts our trivia every Tuesday. Bring a team or just yourself but be sure to bring your “A-Game” and let the fun begin!
URL:https://resonatebrewery.com/index.php/event/test-event-2/2028-05-16/
ATTACH;FMTTYPE=image/webp:https://resonatebrewery.com/wp-content/uploads/2024/04/GWD.webp
END:VEVENT
BEGIN:VEVENT
DTSTART;TZID=UTC:20280523T193000
DTEND;TZID=UTC:20280523T213000
DTSTAMP:20260421T170654
CREATED:20241211T004152Z
LAST-MODIFIED:20241211T004152Z
UID:10002438-1842723000-1842730200@resonatebrewery.com
SUMMARY:Trivia Tuesday
DESCRIPTION:Geeks Who Drink hosts our trivia every Tuesday. Bring a team or just yourself but be sure to bring your “A-Game” and let the fun begin!
URL:https://resonatebrewery.com/index.php/event/test-event-2/2028-05-23/
ATTACH;FMTTYPE=image/webp:https://resonatebrewery.com/wp-content/uploads/2024/04/GWD.webp
END:VEVENT
BEGIN:VEVENT
DTSTART;TZID=UTC:20280530T193000
DTEND;TZID=UTC:20280530T213000
DTSTAMP:20260421T170654
CREATED:20241211T004152Z
LAST-MODIFIED:20241211T004152Z
UID:10002439-1843327800-1843335000@resonatebrewery.com
SUMMARY:Trivia Tuesday
DESCRIPTION:Geeks Who Drink hosts our trivia every Tuesday. Bring a team or just yourself but be sure to bring your “A-Game” and let the fun begin!
URL:https://resonatebrewery.com/index.php/event/test-event-2/2028-05-30/
ATTACH;FMTTYPE=image/webp:https://resonatebrewery.com/wp-content/uploads/2024/04/GWD.webp
END:VEVENT
BEGIN:VEVENT
DTSTART;TZID=UTC:20280606T193000
DTEND;TZID=UTC:20280606T213000
DTSTAMP:20260421T170654
CREATED:20241211T004152Z
LAST-MODIFIED:20241211T004152Z
UID:10002440-1843932600-1843939800@resonatebrewery.com
SUMMARY:Trivia Tuesday
DESCRIPTION:Geeks Who Drink hosts our trivia every Tuesday. Bring a team or just yourself but be sure to bring your “A-Game” and let the fun begin!
URL:https://resonatebrewery.com/index.php/event/test-event-2/2028-06-06/
ATTACH;FMTTYPE=image/webp:https://resonatebrewery.com/wp-content/uploads/2024/04/GWD.webp
END:VEVENT
BEGIN:VEVENT
DTSTART;TZID=UTC:20280613T193000
DTEND;TZID=UTC:20280613T213000
DTSTAMP:20260421T170654
CREATED:20241211T004152Z
LAST-MODIFIED:20241211T004152Z
UID:10002441-1844537400-1844544600@resonatebrewery.com
SUMMARY:Trivia Tuesday
DESCRIPTION:Geeks Who Drink hosts our trivia every Tuesday. Bring a team or just yourself but be sure to bring your “A-Game” and let the fun begin!
URL:https://resonatebrewery.com/index.php/event/test-event-2/2028-06-13/
ATTACH;FMTTYPE=image/webp:https://resonatebrewery.com/wp-content/uploads/2024/04/GWD.webp
END:VEVENT
BEGIN:VEVENT
DTSTART;TZID=UTC:20280620T193000
DTEND;TZID=UTC:20280620T213000
DTSTAMP:20260421T170654
CREATED:20241211T004152Z
LAST-MODIFIED:20241211T004152Z
UID:10002442-1845142200-1845149400@resonatebrewery.com
SUMMARY:Trivia Tuesday
DESCRIPTION:Geeks Who Drink hosts our trivia every Tuesday. Bring a team or just yourself but be sure to bring your “A-Game” and let the fun begin!
URL:https://resonatebrewery.com/index.php/event/test-event-2/2028-06-20/
ATTACH;FMTTYPE=image/webp:https://resonatebrewery.com/wp-content/uploads/2024/04/GWD.webp
END:VEVENT
BEGIN:VEVENT
DTSTART;TZID=UTC:20280627T193000
DTEND;TZID=UTC:20280627T213000
DTSTAMP:20260421T170654
CREATED:20241211T004152Z
LAST-MODIFIED:20241211T004152Z
UID:10002443-1845747000-1845754200@resonatebrewery.com
SUMMARY:Trivia Tuesday
DESCRIPTION:Geeks Who Drink hosts our trivia every Tuesday. Bring a team or just yourself but be sure to bring your “A-Game” and let the fun begin!
URL:https://resonatebrewery.com/index.php/event/test-event-2/2028-06-27/
ATTACH;FMTTYPE=image/webp:https://resonatebrewery.com/wp-content/uploads/2024/04/GWD.webp
END:VEVENT
BEGIN:VEVENT
DTSTART;TZID=UTC:20280704T193000
DTEND;TZID=UTC:20280704T213000
DTSTAMP:20260421T170654
CREATED:20241211T004152Z
LAST-MODIFIED:20241211T004152Z
UID:10002444-1846351800-1846359000@resonatebrewery.com
SUMMARY:Trivia Tuesday
DESCRIPTION:Geeks Who Drink hosts our trivia every Tuesday. Bring a team or just yourself but be sure to bring your “A-Game” and let the fun begin!
URL:https://resonatebrewery.com/index.php/event/test-event-2/2028-07-04/
ATTACH;FMTTYPE=image/webp:https://resonatebrewery.com/wp-content/uploads/2024/04/GWD.webp
END:VEVENT
BEGIN:VEVENT
DTSTART;TZID=UTC:20280711T193000
DTEND;TZID=UTC:20280711T213000
DTSTAMP:20260421T170654
CREATED:20241211T004152Z
LAST-MODIFIED:20241211T004152Z
UID:10002445-1846956600-1846963800@resonatebrewery.com
SUMMARY:Trivia Tuesday
DESCRIPTION:Geeks Who Drink hosts our trivia every Tuesday. Bring a team or just yourself but be sure to bring your “A-Game” and let the fun begin!
URL:https://resonatebrewery.com/index.php/event/test-event-2/2028-07-11/
ATTACH;FMTTYPE=image/webp:https://resonatebrewery.com/wp-content/uploads/2024/04/GWD.webp
END:VEVENT
BEGIN:VEVENT
DTSTART;TZID=UTC:20280718T193000
DTEND;TZID=UTC:20280718T213000
DTSTAMP:20260421T170654
CREATED:20241211T004152Z
LAST-MODIFIED:20241211T004152Z
UID:10002446-1847561400-1847568600@resonatebrewery.com
SUMMARY:Trivia Tuesday
DESCRIPTION:Geeks Who Drink hosts our trivia every Tuesday. Bring a team or just yourself but be sure to bring your “A-Game” and let the fun begin!
URL:https://resonatebrewery.com/index.php/event/test-event-2/2028-07-18/
ATTACH;FMTTYPE=image/webp:https://resonatebrewery.com/wp-content/uploads/2024/04/GWD.webp
END:VEVENT
BEGIN:VEVENT
DTSTART;TZID=UTC:20280725T193000
DTEND;TZID=UTC:20280725T213000
DTSTAMP:20260421T170654
CREATED:20241211T004152Z
LAST-MODIFIED:20241211T004152Z
UID:10002447-1848166200-1848173400@resonatebrewery.com
SUMMARY:Trivia Tuesday
DESCRIPTION:Geeks Who Drink hosts our trivia every Tuesday. Bring a team or just yourself but be sure to bring your “A-Game” and let the fun begin!
URL:https://resonatebrewery.com/index.php/event/test-event-2/2028-07-25/
ATTACH;FMTTYPE=image/webp:https://resonatebrewery.com/wp-content/uploads/2024/04/GWD.webp
END:VEVENT
BEGIN:VEVENT
DTSTART;TZID=UTC:20280801T193000
DTEND;TZID=UTC:20280801T213000
DTSTAMP:20260421T170654
CREATED:20241211T004152Z
LAST-MODIFIED:20241211T004152Z
UID:10002448-1848771000-1848778200@resonatebrewery.com
SUMMARY:Trivia Tuesday
DESCRIPTION:Geeks Who Drink hosts our trivia every Tuesday. Bring a team or just yourself but be sure to bring your “A-Game” and let the fun begin!
URL:https://resonatebrewery.com/index.php/event/test-event-2/2028-08-01/
ATTACH;FMTTYPE=image/webp:https://resonatebrewery.com/wp-content/uploads/2024/04/GWD.webp
END:VEVENT
BEGIN:VEVENT
DTSTART;TZID=UTC:20280808T193000
DTEND;TZID=UTC:20280808T213000
DTSTAMP:20260421T170654
CREATED:20241211T004152Z
LAST-MODIFIED:20241211T004152Z
UID:10002449-1849375800-1849383000@resonatebrewery.com
SUMMARY:Trivia Tuesday
DESCRIPTION:Geeks Who Drink hosts our trivia every Tuesday. Bring a team or just yourself but be sure to bring your “A-Game” and let the fun begin!
URL:https://resonatebrewery.com/index.php/event/test-event-2/2028-08-08/
ATTACH;FMTTYPE=image/webp:https://resonatebrewery.com/wp-content/uploads/2024/04/GWD.webp
END:VEVENT
BEGIN:VEVENT
DTSTART;TZID=UTC:20280815T193000
DTEND;TZID=UTC:20280815T213000
DTSTAMP:20260421T170654
CREATED:20241211T004152Z
LAST-MODIFIED:20241211T004152Z
UID:10002450-1849980600-1849987800@resonatebrewery.com
SUMMARY:Trivia Tuesday
DESCRIPTION:Geeks Who Drink hosts our trivia every Tuesday. Bring a team or just yourself but be sure to bring your “A-Game” and let the fun begin!
URL:https://resonatebrewery.com/index.php/event/test-event-2/2028-08-15/
ATTACH;FMTTYPE=image/webp:https://resonatebrewery.com/wp-content/uploads/2024/04/GWD.webp
END:VEVENT
BEGIN:VEVENT
DTSTART;TZID=UTC:20280822T193000
DTEND;TZID=UTC:20280822T213000
DTSTAMP:20260421T170654
CREATED:20241211T004152Z
LAST-MODIFIED:20241211T004152Z
UID:10002451-1850585400-1850592600@resonatebrewery.com
SUMMARY:Trivia Tuesday
DESCRIPTION:Geeks Who Drink hosts our trivia every Tuesday. Bring a team or just yourself but be sure to bring your “A-Game” and let the fun begin!
URL:https://resonatebrewery.com/index.php/event/test-event-2/2028-08-22/
ATTACH;FMTTYPE=image/webp:https://resonatebrewery.com/wp-content/uploads/2024/04/GWD.webp
END:VEVENT
BEGIN:VEVENT
DTSTART;TZID=UTC:20280829T193000
DTEND;TZID=UTC:20280829T213000
DTSTAMP:20260421T170654
CREATED:20241211T004152Z
LAST-MODIFIED:20241211T004152Z
UID:10002452-1851190200-1851197400@resonatebrewery.com
SUMMARY:Trivia Tuesday
DESCRIPTION:Geeks Who Drink hosts our trivia every Tuesday. Bring a team or just yourself but be sure to bring your “A-Game” and let the fun begin!
URL:https://resonatebrewery.com/index.php/event/test-event-2/2028-08-29/
ATTACH;FMTTYPE=image/webp:https://resonatebrewery.com/wp-content/uploads/2024/04/GWD.webp
END:VEVENT
BEGIN:VEVENT
DTSTART;TZID=UTC:20280905T193000
DTEND;TZID=UTC:20280905T213000
DTSTAMP:20260421T170654
CREATED:20241211T004152Z
LAST-MODIFIED:20241211T004152Z
UID:10002453-1851795000-1851802200@resonatebrewery.com
SUMMARY:Trivia Tuesday
DESCRIPTION:Geeks Who Drink hosts our trivia every Tuesday. Bring a team or just yourself but be sure to bring your “A-Game” and let the fun begin!
URL:https://resonatebrewery.com/index.php/event/test-event-2/2028-09-05/
ATTACH;FMTTYPE=image/webp:https://resonatebrewery.com/wp-content/uploads/2024/04/GWD.webp
END:VEVENT
BEGIN:VEVENT
DTSTART;TZID=UTC:20280912T193000
DTEND;TZID=UTC:20280912T213000
DTSTAMP:20260421T170654
CREATED:20241211T004152Z
LAST-MODIFIED:20241211T004152Z
UID:10002454-1852399800-1852407000@resonatebrewery.com
SUMMARY:Trivia Tuesday
DESCRIPTION:Geeks Who Drink hosts our trivia every Tuesday. Bring a team or just yourself but be sure to bring your “A-Game” and let the fun begin!
URL:https://resonatebrewery.com/index.php/event/test-event-2/2028-09-12/
ATTACH;FMTTYPE=image/webp:https://resonatebrewery.com/wp-content/uploads/2024/04/GWD.webp
END:VEVENT
END:VCALENDAR