BEGIN:VCALENDAR
VERSION:2.0
PRODID:-//Resonate Brewery - ECPv6.15.20//NONSGML v1.0//EN
CALSCALE:GREGORIAN
METHOD:PUBLISH
X-WR-CALNAME:Resonate Brewery
X-ORIGINAL-URL:https://resonatebrewery.com
X-WR-CALDESC:Events for Resonate Brewery
REFRESH-INTERVAL;VALUE=DURATION:PT1H
X-Robots-Tag:noindex
X-PUBLISHED-TTL:PT1H
BEGIN:VTIMEZONE
TZID:UTC
BEGIN:STANDARD
TZOFFSETFROM:+0000
TZOFFSETTO:+0000
TZNAME:UTC
DTSTART:20230101T000000
END:STANDARD
END:VTIMEZONE
BEGIN:VEVENT
DTSTART;TZID=UTC:20240709T193000
DTEND;TZID=UTC:20240709T213000
DTSTAMP:20260421T183548
CREATED:20240419T022238Z
LAST-MODIFIED:20240925T201931Z
UID:10002236-1720553400-1720560600@resonatebrewery.com
SUMMARY:Trivia Tuesday
DESCRIPTION:Geeks Who Drink hosts our trivia every Tuesday. Bring a team or just yourself but be sure to bring your “A-Game” and let the fun begin!
URL:https://resonatebrewery.com/index.php/event/test-event/2024-07-09/
ATTACH;FMTTYPE=image/webp:https://resonatebrewery.com/wp-content/uploads/2024/04/GWD.webp
END:VEVENT
BEGIN:VEVENT
DTSTART;TZID=UTC:20240702T193000
DTEND;TZID=UTC:20240702T213000
DTSTAMP:20260421T183548
CREATED:20240419T022238Z
LAST-MODIFIED:20240925T201931Z
UID:10002235-1719948600-1719955800@resonatebrewery.com
SUMMARY:Trivia Tuesday
DESCRIPTION:Geeks Who Drink hosts our trivia every Tuesday. Bring a team or just yourself but be sure to bring your “A-Game” and let the fun begin!
URL:https://resonatebrewery.com/index.php/event/test-event/2024-07-02/
ATTACH;FMTTYPE=image/webp:https://resonatebrewery.com/wp-content/uploads/2024/04/GWD.webp
END:VEVENT
BEGIN:VEVENT
DTSTART;TZID=UTC:20240625T193000
DTEND;TZID=UTC:20240625T213000
DTSTAMP:20260421T183548
CREATED:20240419T022238Z
LAST-MODIFIED:20240925T201931Z
UID:10002234-1719343800-1719351000@resonatebrewery.com
SUMMARY:Trivia Tuesday
DESCRIPTION:Geeks Who Drink hosts our trivia every Tuesday. Bring a team or just yourself but be sure to bring your “A-Game” and let the fun begin!
URL:https://resonatebrewery.com/index.php/event/test-event/2024-06-25/
ATTACH;FMTTYPE=image/webp:https://resonatebrewery.com/wp-content/uploads/2024/04/GWD.webp
END:VEVENT
BEGIN:VEVENT
DTSTART;TZID=UTC:20240618T193000
DTEND;TZID=UTC:20240618T213000
DTSTAMP:20260421T183548
CREATED:20240419T022238Z
LAST-MODIFIED:20240925T201931Z
UID:10002233-1718739000-1718746200@resonatebrewery.com
SUMMARY:Trivia Tuesday
DESCRIPTION:Geeks Who Drink hosts our trivia every Tuesday. Bring a team or just yourself but be sure to bring your “A-Game” and let the fun begin!
URL:https://resonatebrewery.com/index.php/event/test-event/2024-06-18/
ATTACH;FMTTYPE=image/webp:https://resonatebrewery.com/wp-content/uploads/2024/04/GWD.webp
END:VEVENT
BEGIN:VEVENT
DTSTART;TZID=UTC:20240611T193000
DTEND;TZID=UTC:20240611T213000
DTSTAMP:20260421T183548
CREATED:20240419T022238Z
LAST-MODIFIED:20240925T201931Z
UID:10002232-1718134200-1718141400@resonatebrewery.com
SUMMARY:Trivia Tuesday
DESCRIPTION:Geeks Who Drink hosts our trivia every Tuesday. Bring a team or just yourself but be sure to bring your “A-Game” and let the fun begin!
URL:https://resonatebrewery.com/index.php/event/test-event/2024-06-11/
ATTACH;FMTTYPE=image/webp:https://resonatebrewery.com/wp-content/uploads/2024/04/GWD.webp
END:VEVENT
BEGIN:VEVENT
DTSTART;TZID=UTC:20240604T193000
DTEND;TZID=UTC:20240604T213000
DTSTAMP:20260421T183548
CREATED:20240419T022238Z
LAST-MODIFIED:20240925T201931Z
UID:10002231-1717529400-1717536600@resonatebrewery.com
SUMMARY:Trivia Tuesday
DESCRIPTION:Geeks Who Drink hosts our trivia every Tuesday. Bring a team or just yourself but be sure to bring your “A-Game” and let the fun begin!
URL:https://resonatebrewery.com/index.php/event/test-event/2024-06-04/
ATTACH;FMTTYPE=image/webp:https://resonatebrewery.com/wp-content/uploads/2024/04/GWD.webp
END:VEVENT
BEGIN:VEVENT
DTSTART;TZID=UTC:20240528T193000
DTEND;TZID=UTC:20240528T213000
DTSTAMP:20260421T183548
CREATED:20240419T022238Z
LAST-MODIFIED:20240925T201931Z
UID:10002230-1716924600-1716931800@resonatebrewery.com
SUMMARY:Trivia Tuesday
DESCRIPTION:Geeks Who Drink hosts our trivia every Tuesday. Bring a team or just yourself but be sure to bring your “A-Game” and let the fun begin!
URL:https://resonatebrewery.com/index.php/event/test-event/2024-05-28/
ATTACH;FMTTYPE=image/webp:https://resonatebrewery.com/wp-content/uploads/2024/04/GWD.webp
END:VEVENT
BEGIN:VEVENT
DTSTART;TZID=UTC:20240521T193000
DTEND;TZID=UTC:20240521T213000
DTSTAMP:20260421T183548
CREATED:20240419T022238Z
LAST-MODIFIED:20240925T201931Z
UID:10002229-1716319800-1716327000@resonatebrewery.com
SUMMARY:Trivia Tuesday
DESCRIPTION:Geeks Who Drink hosts our trivia every Tuesday. Bring a team or just yourself but be sure to bring your “A-Game” and let the fun begin!
URL:https://resonatebrewery.com/index.php/event/test-event/2024-05-21/
ATTACH;FMTTYPE=image/webp:https://resonatebrewery.com/wp-content/uploads/2024/04/GWD.webp
END:VEVENT
BEGIN:VEVENT
DTSTART;TZID=UTC:20240514T193000
DTEND;TZID=UTC:20240514T213000
DTSTAMP:20260421T183548
CREATED:20240419T022238Z
LAST-MODIFIED:20240925T201931Z
UID:10002228-1715715000-1715722200@resonatebrewery.com
SUMMARY:Trivia Tuesday
DESCRIPTION:Geeks Who Drink hosts our trivia every Tuesday. Bring a team or just yourself but be sure to bring your “A-Game” and let the fun begin!
URL:https://resonatebrewery.com/index.php/event/test-event/2024-05-14/
ATTACH;FMTTYPE=image/webp:https://resonatebrewery.com/wp-content/uploads/2024/04/GWD.webp
END:VEVENT
BEGIN:VEVENT
DTSTART;TZID=UTC:20240507T193000
DTEND;TZID=UTC:20240507T213000
DTSTAMP:20260421T183548
CREATED:20240419T022238Z
LAST-MODIFIED:20240925T201931Z
UID:10002227-1715110200-1715117400@resonatebrewery.com
SUMMARY:Trivia Tuesday
DESCRIPTION:Geeks Who Drink hosts our trivia every Tuesday. Bring a team or just yourself but be sure to bring your “A-Game” and let the fun begin!
URL:https://resonatebrewery.com/index.php/event/test-event/2024-05-07/
ATTACH;FMTTYPE=image/webp:https://resonatebrewery.com/wp-content/uploads/2024/04/GWD.webp
END:VEVENT
BEGIN:VEVENT
DTSTART;TZID=UTC:20240430T193000
DTEND;TZID=UTC:20240430T213000
DTSTAMP:20260421T183548
CREATED:20240419T022238Z
LAST-MODIFIED:20240925T201931Z
UID:10002226-1714505400-1714512600@resonatebrewery.com
SUMMARY:Trivia Tuesday
DESCRIPTION:Geeks Who Drink hosts our trivia every Tuesday. Bring a team or just yourself but be sure to bring your “A-Game” and let the fun begin!
URL:https://resonatebrewery.com/index.php/event/test-event/2024-04-30/
ATTACH;FMTTYPE=image/webp:https://resonatebrewery.com/wp-content/uploads/2024/04/GWD.webp
END:VEVENT
BEGIN:VEVENT
DTSTART;TZID=UTC:20240424T193000
DTEND;TZID=UTC:20240424T210000
DTSTAMP:20260421T183548
CREATED:20240420T011145Z
LAST-MODIFIED:20240621T231308Z
UID:10002492-1713987000-1713992400@resonatebrewery.com
SUMMARY:(no) Music Bingo - CANCELLED this week
DESCRIPTION:Unfortunately\, Music Themed Bingo is on hold for a few weeks.   Free to play.  Three separate rounds with two prizes per round!
URL:https://resonatebrewery.com/index.php/event/music-bingo-wednesday/2024-04-24/2/
ATTACH;FMTTYPE=image/png:https://resonatebrewery.com/wp-content/uploads/2024/04/Purple-and-Blue-Modern-Neon-Bingo-Night-Flyer.png
END:VEVENT
BEGIN:VEVENT
DTSTART;TZID=UTC:20240424T080000
DTEND;TZID=UTC:20240424T170000
DTSTAMP:20260421T183548
CREATED:20240420T011145Z
LAST-MODIFIED:20240621T231308Z
UID:10002759-1713945600-1713978000@resonatebrewery.com
SUMMARY:(no) Music Bingo - CANCELLED this week
DESCRIPTION:Unfortunately\, Music Themed Bingo is on hold for a few weeks.   Free to play.  Three separate rounds with two prizes per round!
URL:https://resonatebrewery.com/index.php/event/music-bingo-wednesday/2024-04-24/1/
ATTACH;FMTTYPE=image/png:https://resonatebrewery.com/wp-content/uploads/2024/04/Purple-and-Blue-Modern-Neon-Bingo-Night-Flyer.png
END:VEVENT
BEGIN:VEVENT
DTSTART;TZID=UTC:20240423T193000
DTEND;TZID=UTC:20240423T213000
DTSTAMP:20260421T183548
CREATED:20240419T022238Z
LAST-MODIFIED:20240925T201931Z
UID:10002225-1713900600-1713907800@resonatebrewery.com
SUMMARY:Trivia Tuesday
DESCRIPTION:Geeks Who Drink hosts our trivia every Tuesday. Bring a team or just yourself but be sure to bring your “A-Game” and let the fun begin!
URL:https://resonatebrewery.com/index.php/event/test-event/2024-04-23/
ATTACH;FMTTYPE=image/webp:https://resonatebrewery.com/wp-content/uploads/2024/04/GWD.webp
END:VEVENT
END:VCALENDAR