BEGIN:VCALENDAR
VERSION:2.0
PRODID:-//Resonate Brewery - ECPv6.15.20//NONSGML v1.0//EN
CALSCALE:GREGORIAN
METHOD:PUBLISH
X-WR-CALNAME:Resonate Brewery
X-ORIGINAL-URL:https://resonatebrewery.com
X-WR-CALDESC:Events for Resonate Brewery
REFRESH-INTERVAL;VALUE=DURATION:PT1H
X-Robots-Tag:noindex
X-PUBLISHED-TTL:PT1H
BEGIN:VTIMEZONE
TZID:UTC
BEGIN:STANDARD
TZOFFSETFROM:+0000
TZOFFSETTO:+0000
TZNAME:UTC
DTSTART:20240101T000000
END:STANDARD
END:VTIMEZONE
BEGIN:VEVENT
DTSTART;TZID=UTC:20251209T193000
DTEND;TZID=UTC:20251209T213000
DTSTAMP:20260421T060257
CREATED:20241211T004152Z
LAST-MODIFIED:20241211T004152Z
UID:10002310-1765308600-1765315800@resonatebrewery.com
SUMMARY:Trivia Tuesday
DESCRIPTION:Geeks Who Drink hosts our trivia every Tuesday. Bring a team or just yourself but be sure to bring your “A-Game” and let the fun begin!
URL:https://resonatebrewery.com/index.php/event/test-event-2/2025-12-09/
ATTACH;FMTTYPE=image/webp:https://resonatebrewery.com/wp-content/uploads/2024/04/GWD.webp
END:VEVENT
BEGIN:VEVENT
DTSTART;TZID=UTC:20251202T193000
DTEND;TZID=UTC:20251202T213000
DTSTAMP:20260421T060257
CREATED:20241211T004152Z
LAST-MODIFIED:20241211T004152Z
UID:10002309-1764703800-1764711000@resonatebrewery.com
SUMMARY:Trivia Tuesday
DESCRIPTION:Geeks Who Drink hosts our trivia every Tuesday. Bring a team or just yourself but be sure to bring your “A-Game” and let the fun begin!
URL:https://resonatebrewery.com/index.php/event/test-event-2/2025-12-02/
ATTACH;FMTTYPE=image/webp:https://resonatebrewery.com/wp-content/uploads/2024/04/GWD.webp
END:VEVENT
BEGIN:VEVENT
DTSTART;TZID=UTC:20251125T193000
DTEND;TZID=UTC:20251125T213000
DTSTAMP:20260421T060257
CREATED:20241211T004152Z
LAST-MODIFIED:20241211T004152Z
UID:10002308-1764099000-1764106200@resonatebrewery.com
SUMMARY:Trivia Tuesday
DESCRIPTION:Geeks Who Drink hosts our trivia every Tuesday. Bring a team or just yourself but be sure to bring your “A-Game” and let the fun begin!
URL:https://resonatebrewery.com/index.php/event/test-event-2/2025-11-25/
ATTACH;FMTTYPE=image/webp:https://resonatebrewery.com/wp-content/uploads/2024/04/GWD.webp
END:VEVENT
BEGIN:VEVENT
DTSTART;TZID=UTC:20251118T193000
DTEND;TZID=UTC:20251118T213000
DTSTAMP:20260421T060257
CREATED:20241211T004152Z
LAST-MODIFIED:20241211T004152Z
UID:10002307-1763494200-1763501400@resonatebrewery.com
SUMMARY:Trivia Tuesday
DESCRIPTION:Geeks Who Drink hosts our trivia every Tuesday. Bring a team or just yourself but be sure to bring your “A-Game” and let the fun begin!
URL:https://resonatebrewery.com/index.php/event/test-event-2/2025-11-18/
ATTACH;FMTTYPE=image/webp:https://resonatebrewery.com/wp-content/uploads/2024/04/GWD.webp
END:VEVENT
BEGIN:VEVENT
DTSTART;TZID=UTC:20251111T193000
DTEND;TZID=UTC:20251111T213000
DTSTAMP:20260421T060257
CREATED:20241211T004152Z
LAST-MODIFIED:20241211T004152Z
UID:10002306-1762889400-1762896600@resonatebrewery.com
SUMMARY:Trivia Tuesday
DESCRIPTION:Geeks Who Drink hosts our trivia every Tuesday. Bring a team or just yourself but be sure to bring your “A-Game” and let the fun begin!
URL:https://resonatebrewery.com/index.php/event/test-event-2/2025-11-11/
ATTACH;FMTTYPE=image/webp:https://resonatebrewery.com/wp-content/uploads/2024/04/GWD.webp
END:VEVENT
BEGIN:VEVENT
DTSTART;TZID=UTC:20251104T193000
DTEND;TZID=UTC:20251104T213000
DTSTAMP:20260421T060257
CREATED:20241211T004152Z
LAST-MODIFIED:20241211T004152Z
UID:10002305-1762284600-1762291800@resonatebrewery.com
SUMMARY:Trivia Tuesday
DESCRIPTION:Geeks Who Drink hosts our trivia every Tuesday. Bring a team or just yourself but be sure to bring your “A-Game” and let the fun begin!
URL:https://resonatebrewery.com/index.php/event/test-event-2/2025-11-04/
ATTACH;FMTTYPE=image/webp:https://resonatebrewery.com/wp-content/uploads/2024/04/GWD.webp
END:VEVENT
BEGIN:VEVENT
DTSTART;TZID=UTC:20251028T193000
DTEND;TZID=UTC:20251028T213000
DTSTAMP:20260421T060257
CREATED:20241211T004152Z
LAST-MODIFIED:20241211T004152Z
UID:10002304-1761679800-1761687000@resonatebrewery.com
SUMMARY:Trivia Tuesday
DESCRIPTION:Geeks Who Drink hosts our trivia every Tuesday. Bring a team or just yourself but be sure to bring your “A-Game” and let the fun begin!
URL:https://resonatebrewery.com/index.php/event/test-event-2/2025-10-28/
ATTACH;FMTTYPE=image/webp:https://resonatebrewery.com/wp-content/uploads/2024/04/GWD.webp
END:VEVENT
BEGIN:VEVENT
DTSTART;TZID=UTC:20251021T193000
DTEND;TZID=UTC:20251021T213000
DTSTAMP:20260421T060257
CREATED:20241211T004152Z
LAST-MODIFIED:20241211T004152Z
UID:10002303-1761075000-1761082200@resonatebrewery.com
SUMMARY:Trivia Tuesday
DESCRIPTION:Geeks Who Drink hosts our trivia every Tuesday. Bring a team or just yourself but be sure to bring your “A-Game” and let the fun begin!
URL:https://resonatebrewery.com/index.php/event/test-event-2/2025-10-21/
ATTACH;FMTTYPE=image/webp:https://resonatebrewery.com/wp-content/uploads/2024/04/GWD.webp
END:VEVENT
BEGIN:VEVENT
DTSTART;TZID=UTC:20251014T193000
DTEND;TZID=UTC:20251014T213000
DTSTAMP:20260421T060257
CREATED:20241211T004152Z
LAST-MODIFIED:20241211T004152Z
UID:10002302-1760470200-1760477400@resonatebrewery.com
SUMMARY:Trivia Tuesday
DESCRIPTION:Geeks Who Drink hosts our trivia every Tuesday. Bring a team or just yourself but be sure to bring your “A-Game” and let the fun begin!
URL:https://resonatebrewery.com/index.php/event/test-event-2/2025-10-14/
ATTACH;FMTTYPE=image/webp:https://resonatebrewery.com/wp-content/uploads/2024/04/GWD.webp
END:VEVENT
BEGIN:VEVENT
DTSTART;TZID=UTC:20251007T193000
DTEND;TZID=UTC:20251007T213000
DTSTAMP:20260421T060257
CREATED:20241211T004152Z
LAST-MODIFIED:20241211T004152Z
UID:10002301-1759865400-1759872600@resonatebrewery.com
SUMMARY:Trivia Tuesday
DESCRIPTION:Geeks Who Drink hosts our trivia every Tuesday. Bring a team or just yourself but be sure to bring your “A-Game” and let the fun begin!
URL:https://resonatebrewery.com/index.php/event/test-event-2/2025-10-07/
ATTACH;FMTTYPE=image/webp:https://resonatebrewery.com/wp-content/uploads/2024/04/GWD.webp
END:VEVENT
BEGIN:VEVENT
DTSTART;TZID=UTC:20250930T193000
DTEND;TZID=UTC:20250930T213000
DTSTAMP:20260421T060257
CREATED:20241211T004152Z
LAST-MODIFIED:20241211T004152Z
UID:10002300-1759260600-1759267800@resonatebrewery.com
SUMMARY:Trivia Tuesday
DESCRIPTION:Geeks Who Drink hosts our trivia every Tuesday. Bring a team or just yourself but be sure to bring your “A-Game” and let the fun begin!
URL:https://resonatebrewery.com/index.php/event/test-event-2/2025-09-30/
ATTACH;FMTTYPE=image/webp:https://resonatebrewery.com/wp-content/uploads/2024/04/GWD.webp
END:VEVENT
BEGIN:VEVENT
DTSTART;TZID=UTC:20250923T193000
DTEND;TZID=UTC:20250923T213000
DTSTAMP:20260421T060257
CREATED:20241211T004152Z
LAST-MODIFIED:20241211T004152Z
UID:10002299-1758655800-1758663000@resonatebrewery.com
SUMMARY:Trivia Tuesday
DESCRIPTION:Geeks Who Drink hosts our trivia every Tuesday. Bring a team or just yourself but be sure to bring your “A-Game” and let the fun begin!
URL:https://resonatebrewery.com/index.php/event/test-event-2/2025-09-23/
ATTACH;FMTTYPE=image/webp:https://resonatebrewery.com/wp-content/uploads/2024/04/GWD.webp
END:VEVENT
BEGIN:VEVENT
DTSTART;TZID=UTC:20250916T193000
DTEND;TZID=UTC:20250916T213000
DTSTAMP:20260421T060257
CREATED:20241211T004152Z
LAST-MODIFIED:20241211T004152Z
UID:10002298-1758051000-1758058200@resonatebrewery.com
SUMMARY:Trivia Tuesday
DESCRIPTION:Geeks Who Drink hosts our trivia every Tuesday. Bring a team or just yourself but be sure to bring your “A-Game” and let the fun begin!
URL:https://resonatebrewery.com/index.php/event/test-event-2/2025-09-16/
ATTACH;FMTTYPE=image/webp:https://resonatebrewery.com/wp-content/uploads/2024/04/GWD.webp
END:VEVENT
BEGIN:VEVENT
DTSTART;TZID=UTC:20250909T193000
DTEND;TZID=UTC:20250909T213000
DTSTAMP:20260421T060257
CREATED:20241211T004152Z
LAST-MODIFIED:20241211T004152Z
UID:10002297-1757446200-1757453400@resonatebrewery.com
SUMMARY:Trivia Tuesday
DESCRIPTION:Geeks Who Drink hosts our trivia every Tuesday. Bring a team or just yourself but be sure to bring your “A-Game” and let the fun begin!
URL:https://resonatebrewery.com/index.php/event/test-event-2/2025-09-09/
ATTACH;FMTTYPE=image/webp:https://resonatebrewery.com/wp-content/uploads/2024/04/GWD.webp
END:VEVENT
BEGIN:VEVENT
DTSTART;TZID=UTC:20250902T193000
DTEND;TZID=UTC:20250902T213000
DTSTAMP:20260421T060257
CREATED:20241211T004152Z
LAST-MODIFIED:20241211T004152Z
UID:10002296-1756841400-1756848600@resonatebrewery.com
SUMMARY:Trivia Tuesday
DESCRIPTION:Geeks Who Drink hosts our trivia every Tuesday. Bring a team or just yourself but be sure to bring your “A-Game” and let the fun begin!
URL:https://resonatebrewery.com/index.php/event/test-event-2/2025-09-02/
ATTACH;FMTTYPE=image/webp:https://resonatebrewery.com/wp-content/uploads/2024/04/GWD.webp
END:VEVENT
BEGIN:VEVENT
DTSTART;TZID=UTC:20250826T193000
DTEND;TZID=UTC:20250826T213000
DTSTAMP:20260421T060257
CREATED:20241211T004152Z
LAST-MODIFIED:20241211T004152Z
UID:10002295-1756236600-1756243800@resonatebrewery.com
SUMMARY:Trivia Tuesday
DESCRIPTION:Geeks Who Drink hosts our trivia every Tuesday. Bring a team or just yourself but be sure to bring your “A-Game” and let the fun begin!
URL:https://resonatebrewery.com/index.php/event/test-event-2/2025-08-26/
ATTACH;FMTTYPE=image/webp:https://resonatebrewery.com/wp-content/uploads/2024/04/GWD.webp
END:VEVENT
BEGIN:VEVENT
DTSTART;TZID=UTC:20250819T193000
DTEND;TZID=UTC:20250819T213000
DTSTAMP:20260421T060257
CREATED:20241211T004152Z
LAST-MODIFIED:20241211T004152Z
UID:10002294-1755631800-1755639000@resonatebrewery.com
SUMMARY:Trivia Tuesday
DESCRIPTION:Geeks Who Drink hosts our trivia every Tuesday. Bring a team or just yourself but be sure to bring your “A-Game” and let the fun begin!
URL:https://resonatebrewery.com/index.php/event/test-event-2/2025-08-19/
ATTACH;FMTTYPE=image/webp:https://resonatebrewery.com/wp-content/uploads/2024/04/GWD.webp
END:VEVENT
BEGIN:VEVENT
DTSTART;TZID=UTC:20250812T193000
DTEND;TZID=UTC:20250812T213000
DTSTAMP:20260421T060257
CREATED:20241211T004152Z
LAST-MODIFIED:20241211T004152Z
UID:10002293-1755027000-1755034200@resonatebrewery.com
SUMMARY:Trivia Tuesday
DESCRIPTION:Geeks Who Drink hosts our trivia every Tuesday. Bring a team or just yourself but be sure to bring your “A-Game” and let the fun begin!
URL:https://resonatebrewery.com/index.php/event/test-event-2/2025-08-12/
ATTACH;FMTTYPE=image/webp:https://resonatebrewery.com/wp-content/uploads/2024/04/GWD.webp
END:VEVENT
BEGIN:VEVENT
DTSTART;TZID=UTC:20250805T193000
DTEND;TZID=UTC:20250805T213000
DTSTAMP:20260421T060257
CREATED:20241211T004152Z
LAST-MODIFIED:20241211T004152Z
UID:10002292-1754422200-1754429400@resonatebrewery.com
SUMMARY:Trivia Tuesday
DESCRIPTION:Geeks Who Drink hosts our trivia every Tuesday. Bring a team or just yourself but be sure to bring your “A-Game” and let the fun begin!
URL:https://resonatebrewery.com/index.php/event/test-event-2/2025-08-05/
ATTACH;FMTTYPE=image/webp:https://resonatebrewery.com/wp-content/uploads/2024/04/GWD.webp
END:VEVENT
BEGIN:VEVENT
DTSTART;TZID=UTC:20250729T193000
DTEND;TZID=UTC:20250729T213000
DTSTAMP:20260421T060257
CREATED:20241211T004152Z
LAST-MODIFIED:20241211T004152Z
UID:10002291-1753817400-1753824600@resonatebrewery.com
SUMMARY:Trivia Tuesday
DESCRIPTION:Geeks Who Drink hosts our trivia every Tuesday. Bring a team or just yourself but be sure to bring your “A-Game” and let the fun begin!
URL:https://resonatebrewery.com/index.php/event/test-event-2/2025-07-29/
ATTACH;FMTTYPE=image/webp:https://resonatebrewery.com/wp-content/uploads/2024/04/GWD.webp
END:VEVENT
BEGIN:VEVENT
DTSTART;TZID=UTC:20250722T193000
DTEND;TZID=UTC:20250722T213000
DTSTAMP:20260421T060257
CREATED:20241211T004152Z
LAST-MODIFIED:20241211T004152Z
UID:10002290-1753212600-1753219800@resonatebrewery.com
SUMMARY:Trivia Tuesday
DESCRIPTION:Geeks Who Drink hosts our trivia every Tuesday. Bring a team or just yourself but be sure to bring your “A-Game” and let the fun begin!
URL:https://resonatebrewery.com/index.php/event/test-event-2/2025-07-22/
ATTACH;FMTTYPE=image/webp:https://resonatebrewery.com/wp-content/uploads/2024/04/GWD.webp
END:VEVENT
BEGIN:VEVENT
DTSTART;TZID=UTC:20250715T193000
DTEND;TZID=UTC:20250715T213000
DTSTAMP:20260421T060257
CREATED:20241211T004152Z
LAST-MODIFIED:20241211T004152Z
UID:10002289-1752607800-1752615000@resonatebrewery.com
SUMMARY:Trivia Tuesday
DESCRIPTION:Geeks Who Drink hosts our trivia every Tuesday. Bring a team or just yourself but be sure to bring your “A-Game” and let the fun begin!
URL:https://resonatebrewery.com/index.php/event/test-event-2/2025-07-15/
ATTACH;FMTTYPE=image/webp:https://resonatebrewery.com/wp-content/uploads/2024/04/GWD.webp
END:VEVENT
BEGIN:VEVENT
DTSTART;TZID=UTC:20250708T193000
DTEND;TZID=UTC:20250708T213000
DTSTAMP:20260421T060257
CREATED:20241211T004152Z
LAST-MODIFIED:20241211T004152Z
UID:10002288-1752003000-1752010200@resonatebrewery.com
SUMMARY:Trivia Tuesday
DESCRIPTION:Geeks Who Drink hosts our trivia every Tuesday. Bring a team or just yourself but be sure to bring your “A-Game” and let the fun begin!
URL:https://resonatebrewery.com/index.php/event/test-event-2/2025-07-08/
ATTACH;FMTTYPE=image/webp:https://resonatebrewery.com/wp-content/uploads/2024/04/GWD.webp
END:VEVENT
BEGIN:VEVENT
DTSTART;TZID=UTC:20250701T193000
DTEND;TZID=UTC:20250701T213000
DTSTAMP:20260421T060257
CREATED:20241211T004152Z
LAST-MODIFIED:20241211T004152Z
UID:10002287-1751398200-1751405400@resonatebrewery.com
SUMMARY:Trivia Tuesday
DESCRIPTION:Geeks Who Drink hosts our trivia every Tuesday. Bring a team or just yourself but be sure to bring your “A-Game” and let the fun begin!
URL:https://resonatebrewery.com/index.php/event/test-event-2/2025-07-01/
ATTACH;FMTTYPE=image/webp:https://resonatebrewery.com/wp-content/uploads/2024/04/GWD.webp
END:VEVENT
BEGIN:VEVENT
DTSTART;TZID=UTC:20250624T193000
DTEND;TZID=UTC:20250624T213000
DTSTAMP:20260421T060257
CREATED:20241211T004152Z
LAST-MODIFIED:20241211T004152Z
UID:10002286-1750793400-1750800600@resonatebrewery.com
SUMMARY:Trivia Tuesday
DESCRIPTION:Geeks Who Drink hosts our trivia every Tuesday. Bring a team or just yourself but be sure to bring your “A-Game” and let the fun begin!
URL:https://resonatebrewery.com/index.php/event/test-event-2/2025-06-24/
ATTACH;FMTTYPE=image/webp:https://resonatebrewery.com/wp-content/uploads/2024/04/GWD.webp
END:VEVENT
BEGIN:VEVENT
DTSTART;TZID=UTC:20250617T193000
DTEND;TZID=UTC:20250617T213000
DTSTAMP:20260421T060257
CREATED:20241211T004152Z
LAST-MODIFIED:20241211T004152Z
UID:10002285-1750188600-1750195800@resonatebrewery.com
SUMMARY:Trivia Tuesday
DESCRIPTION:Geeks Who Drink hosts our trivia every Tuesday. Bring a team or just yourself but be sure to bring your “A-Game” and let the fun begin!
URL:https://resonatebrewery.com/index.php/event/test-event-2/2025-06-17/
ATTACH;FMTTYPE=image/webp:https://resonatebrewery.com/wp-content/uploads/2024/04/GWD.webp
END:VEVENT
BEGIN:VEVENT
DTSTART;TZID=UTC:20250610T193000
DTEND;TZID=UTC:20250610T213000
DTSTAMP:20260421T060257
CREATED:20241211T004152Z
LAST-MODIFIED:20241211T004152Z
UID:10002284-1749583800-1749591000@resonatebrewery.com
SUMMARY:Trivia Tuesday
DESCRIPTION:Geeks Who Drink hosts our trivia every Tuesday. Bring a team or just yourself but be sure to bring your “A-Game” and let the fun begin!
URL:https://resonatebrewery.com/index.php/event/test-event-2/2025-06-10/
ATTACH;FMTTYPE=image/webp:https://resonatebrewery.com/wp-content/uploads/2024/04/GWD.webp
END:VEVENT
BEGIN:VEVENT
DTSTART;TZID=UTC:20250603T193000
DTEND;TZID=UTC:20250603T213000
DTSTAMP:20260421T060257
CREATED:20241211T004152Z
LAST-MODIFIED:20241211T004152Z
UID:10002283-1748979000-1748986200@resonatebrewery.com
SUMMARY:Trivia Tuesday
DESCRIPTION:Geeks Who Drink hosts our trivia every Tuesday. Bring a team or just yourself but be sure to bring your “A-Game” and let the fun begin!
URL:https://resonatebrewery.com/index.php/event/test-event-2/2025-06-03/
ATTACH;FMTTYPE=image/webp:https://resonatebrewery.com/wp-content/uploads/2024/04/GWD.webp
END:VEVENT
BEGIN:VEVENT
DTSTART;TZID=UTC:20250527T193000
DTEND;TZID=UTC:20250527T213000
DTSTAMP:20260421T060257
CREATED:20241211T004152Z
LAST-MODIFIED:20241211T004152Z
UID:10002282-1748374200-1748381400@resonatebrewery.com
SUMMARY:Trivia Tuesday
DESCRIPTION:Geeks Who Drink hosts our trivia every Tuesday. Bring a team or just yourself but be sure to bring your “A-Game” and let the fun begin!
URL:https://resonatebrewery.com/index.php/event/test-event-2/2025-05-27/
ATTACH;FMTTYPE=image/webp:https://resonatebrewery.com/wp-content/uploads/2024/04/GWD.webp
END:VEVENT
BEGIN:VEVENT
DTSTART;TZID=UTC:20250520T193000
DTEND;TZID=UTC:20250520T213000
DTSTAMP:20260421T060257
CREATED:20241211T004152Z
LAST-MODIFIED:20241211T004152Z
UID:10002281-1747769400-1747776600@resonatebrewery.com
SUMMARY:Trivia Tuesday
DESCRIPTION:Geeks Who Drink hosts our trivia every Tuesday. Bring a team or just yourself but be sure to bring your “A-Game” and let the fun begin!
URL:https://resonatebrewery.com/index.php/event/test-event-2/2025-05-20/
ATTACH;FMTTYPE=image/webp:https://resonatebrewery.com/wp-content/uploads/2024/04/GWD.webp
END:VEVENT
END:VCALENDAR