BEGIN:VCALENDAR
VERSION:2.0
PRODID:-//Resonate Brewery - ECPv6.15.20//NONSGML v1.0//EN
CALSCALE:GREGORIAN
METHOD:PUBLISH
X-ORIGINAL-URL:https://resonatebrewery.com
X-WR-CALDESC:Events for Resonate Brewery
REFRESH-INTERVAL;VALUE=DURATION:PT1H
X-Robots-Tag:noindex
X-PUBLISHED-TTL:PT1H
BEGIN:VTIMEZONE
TZID:UTC
BEGIN:STANDARD
TZOFFSETFROM:+0000
TZOFFSETTO:+0000
TZNAME:UTC
DTSTART:20270101T000000
END:STANDARD
END:VTIMEZONE
BEGIN:VEVENT
DTSTART;TZID=UTC:20280808T193000
DTEND;TZID=UTC:20280808T213000
DTSTAMP:20260421T205302
CREATED:20241211T004152Z
LAST-MODIFIED:20241211T004152Z
UID:10002449-1849375800-1849383000@resonatebrewery.com
SUMMARY:Trivia Tuesday
DESCRIPTION:Geeks Who Drink hosts our trivia every Tuesday. Bring a team or just yourself but be sure to bring your “A-Game” and let the fun begin!
URL:https://resonatebrewery.com/index.php/event/test-event-2/2028-08-08/
ATTACH;FMTTYPE=image/webp:https://resonatebrewery.com/wp-content/uploads/2024/04/GWD.webp
END:VEVENT
BEGIN:VEVENT
DTSTART;TZID=UTC:20280815T193000
DTEND;TZID=UTC:20280815T213000
DTSTAMP:20260421T205303
CREATED:20241211T004152Z
LAST-MODIFIED:20241211T004152Z
UID:10002450-1849980600-1849987800@resonatebrewery.com
SUMMARY:Trivia Tuesday
DESCRIPTION:Geeks Who Drink hosts our trivia every Tuesday. Bring a team or just yourself but be sure to bring your “A-Game” and let the fun begin!
URL:https://resonatebrewery.com/index.php/event/test-event-2/2028-08-15/
ATTACH;FMTTYPE=image/webp:https://resonatebrewery.com/wp-content/uploads/2024/04/GWD.webp
END:VEVENT
BEGIN:VEVENT
DTSTART;TZID=UTC:20280822T193000
DTEND;TZID=UTC:20280822T213000
DTSTAMP:20260421T205303
CREATED:20241211T004152Z
LAST-MODIFIED:20241211T004152Z
UID:10002451-1850585400-1850592600@resonatebrewery.com
SUMMARY:Trivia Tuesday
DESCRIPTION:Geeks Who Drink hosts our trivia every Tuesday. Bring a team or just yourself but be sure to bring your “A-Game” and let the fun begin!
URL:https://resonatebrewery.com/index.php/event/test-event-2/2028-08-22/
ATTACH;FMTTYPE=image/webp:https://resonatebrewery.com/wp-content/uploads/2024/04/GWD.webp
END:VEVENT
BEGIN:VEVENT
DTSTART;TZID=UTC:20280829T193000
DTEND;TZID=UTC:20280829T213000
DTSTAMP:20260421T205303
CREATED:20241211T004152Z
LAST-MODIFIED:20241211T004152Z
UID:10002452-1851190200-1851197400@resonatebrewery.com
SUMMARY:Trivia Tuesday
DESCRIPTION:Geeks Who Drink hosts our trivia every Tuesday. Bring a team or just yourself but be sure to bring your “A-Game” and let the fun begin!
URL:https://resonatebrewery.com/index.php/event/test-event-2/2028-08-29/
ATTACH;FMTTYPE=image/webp:https://resonatebrewery.com/wp-content/uploads/2024/04/GWD.webp
END:VEVENT
BEGIN:VEVENT
DTSTART;TZID=UTC:20280905T193000
DTEND;TZID=UTC:20280905T213000
DTSTAMP:20260421T205303
CREATED:20241211T004152Z
LAST-MODIFIED:20241211T004152Z
UID:10002453-1851795000-1851802200@resonatebrewery.com
SUMMARY:Trivia Tuesday
DESCRIPTION:Geeks Who Drink hosts our trivia every Tuesday. Bring a team or just yourself but be sure to bring your “A-Game” and let the fun begin!
URL:https://resonatebrewery.com/index.php/event/test-event-2/2028-09-05/
ATTACH;FMTTYPE=image/webp:https://resonatebrewery.com/wp-content/uploads/2024/04/GWD.webp
END:VEVENT
BEGIN:VEVENT
DTSTART;TZID=UTC:20280912T193000
DTEND;TZID=UTC:20280912T213000
DTSTAMP:20260421T205303
CREATED:20241211T004152Z
LAST-MODIFIED:20241211T004152Z
UID:10002454-1852399800-1852407000@resonatebrewery.com
SUMMARY:Trivia Tuesday
DESCRIPTION:Geeks Who Drink hosts our trivia every Tuesday. Bring a team or just yourself but be sure to bring your “A-Game” and let the fun begin!
URL:https://resonatebrewery.com/index.php/event/test-event-2/2028-09-12/
ATTACH;FMTTYPE=image/webp:https://resonatebrewery.com/wp-content/uploads/2024/04/GWD.webp
END:VEVENT
BEGIN:VEVENT
DTSTART;TZID=UTC:20280919T193000
DTEND;TZID=UTC:20280919T213000
DTSTAMP:20260421T205303
CREATED:20241211T004152Z
LAST-MODIFIED:20241211T004152Z
UID:10002455-1853004600-1853011800@resonatebrewery.com
SUMMARY:Trivia Tuesday
DESCRIPTION:Geeks Who Drink hosts our trivia every Tuesday. Bring a team or just yourself but be sure to bring your “A-Game” and let the fun begin!
URL:https://resonatebrewery.com/index.php/event/test-event-2/2028-09-19/
ATTACH;FMTTYPE=image/webp:https://resonatebrewery.com/wp-content/uploads/2024/04/GWD.webp
END:VEVENT
BEGIN:VEVENT
DTSTART;TZID=UTC:20280926T193000
DTEND;TZID=UTC:20280926T213000
DTSTAMP:20260421T205303
CREATED:20241211T004152Z
LAST-MODIFIED:20241211T004152Z
UID:10002456-1853609400-1853616600@resonatebrewery.com
SUMMARY:Trivia Tuesday
DESCRIPTION:Geeks Who Drink hosts our trivia every Tuesday. Bring a team or just yourself but be sure to bring your “A-Game” and let the fun begin!
URL:https://resonatebrewery.com/index.php/event/test-event-2/2028-09-26/
ATTACH;FMTTYPE=image/webp:https://resonatebrewery.com/wp-content/uploads/2024/04/GWD.webp
END:VEVENT
BEGIN:VEVENT
DTSTART;TZID=UTC:20281003T193000
DTEND;TZID=UTC:20281003T213000
DTSTAMP:20260421T205303
CREATED:20241211T004152Z
LAST-MODIFIED:20241211T004152Z
UID:10002457-1854214200-1854221400@resonatebrewery.com
SUMMARY:Trivia Tuesday
DESCRIPTION:Geeks Who Drink hosts our trivia every Tuesday. Bring a team or just yourself but be sure to bring your “A-Game” and let the fun begin!
URL:https://resonatebrewery.com/index.php/event/test-event-2/2028-10-03/
ATTACH;FMTTYPE=image/webp:https://resonatebrewery.com/wp-content/uploads/2024/04/GWD.webp
END:VEVENT
BEGIN:VEVENT
DTSTART;TZID=UTC:20281010T193000
DTEND;TZID=UTC:20281010T213000
DTSTAMP:20260421T205303
CREATED:20241211T004152Z
LAST-MODIFIED:20241211T004152Z
UID:10002458-1854819000-1854826200@resonatebrewery.com
SUMMARY:Trivia Tuesday
DESCRIPTION:Geeks Who Drink hosts our trivia every Tuesday. Bring a team or just yourself but be sure to bring your “A-Game” and let the fun begin!
URL:https://resonatebrewery.com/index.php/event/test-event-2/2028-10-10/
ATTACH;FMTTYPE=image/webp:https://resonatebrewery.com/wp-content/uploads/2024/04/GWD.webp
END:VEVENT
BEGIN:VEVENT
DTSTART;TZID=UTC:20281017T193000
DTEND;TZID=UTC:20281017T213000
DTSTAMP:20260421T205303
CREATED:20241211T004152Z
LAST-MODIFIED:20241211T004152Z
UID:10002459-1855423800-1855431000@resonatebrewery.com
SUMMARY:Trivia Tuesday
DESCRIPTION:Geeks Who Drink hosts our trivia every Tuesday. Bring a team or just yourself but be sure to bring your “A-Game” and let the fun begin!
URL:https://resonatebrewery.com/index.php/event/test-event-2/2028-10-17/
ATTACH;FMTTYPE=image/webp:https://resonatebrewery.com/wp-content/uploads/2024/04/GWD.webp
END:VEVENT
BEGIN:VEVENT
DTSTART;TZID=UTC:20281024T193000
DTEND;TZID=UTC:20281024T213000
DTSTAMP:20260421T205303
CREATED:20241211T004152Z
LAST-MODIFIED:20241211T004152Z
UID:10002460-1856028600-1856035800@resonatebrewery.com
SUMMARY:Trivia Tuesday
DESCRIPTION:Geeks Who Drink hosts our trivia every Tuesday. Bring a team or just yourself but be sure to bring your “A-Game” and let the fun begin!
URL:https://resonatebrewery.com/index.php/event/test-event-2/2028-10-24/
ATTACH;FMTTYPE=image/webp:https://resonatebrewery.com/wp-content/uploads/2024/04/GWD.webp
END:VEVENT
BEGIN:VEVENT
DTSTART;TZID=UTC:20281031T193000
DTEND;TZID=UTC:20281031T213000
DTSTAMP:20260421T205303
CREATED:20241211T004152Z
LAST-MODIFIED:20241211T004152Z
UID:10002461-1856633400-1856640600@resonatebrewery.com
SUMMARY:Trivia Tuesday
DESCRIPTION:Geeks Who Drink hosts our trivia every Tuesday. Bring a team or just yourself but be sure to bring your “A-Game” and let the fun begin!
URL:https://resonatebrewery.com/index.php/event/test-event-2/2028-10-31/
ATTACH;FMTTYPE=image/webp:https://resonatebrewery.com/wp-content/uploads/2024/04/GWD.webp
END:VEVENT
BEGIN:VEVENT
DTSTART;TZID=UTC:20281107T193000
DTEND;TZID=UTC:20281107T213000
DTSTAMP:20260421T205303
CREATED:20241211T004152Z
LAST-MODIFIED:20241211T004152Z
UID:10002462-1857238200-1857245400@resonatebrewery.com
SUMMARY:Trivia Tuesday
DESCRIPTION:Geeks Who Drink hosts our trivia every Tuesday. Bring a team or just yourself but be sure to bring your “A-Game” and let the fun begin!
URL:https://resonatebrewery.com/index.php/event/test-event-2/2028-11-07/
ATTACH;FMTTYPE=image/webp:https://resonatebrewery.com/wp-content/uploads/2024/04/GWD.webp
END:VEVENT
BEGIN:VEVENT
DTSTART;TZID=UTC:20281114T193000
DTEND;TZID=UTC:20281114T213000
DTSTAMP:20260421T205303
CREATED:20241211T004152Z
LAST-MODIFIED:20241211T004152Z
UID:10002463-1857843000-1857850200@resonatebrewery.com
SUMMARY:Trivia Tuesday
DESCRIPTION:Geeks Who Drink hosts our trivia every Tuesday. Bring a team or just yourself but be sure to bring your “A-Game” and let the fun begin!
URL:https://resonatebrewery.com/index.php/event/test-event-2/2028-11-14/
ATTACH;FMTTYPE=image/webp:https://resonatebrewery.com/wp-content/uploads/2024/04/GWD.webp
END:VEVENT
BEGIN:VEVENT
DTSTART;TZID=UTC:20281121T193000
DTEND;TZID=UTC:20281121T213000
DTSTAMP:20260421T205303
CREATED:20241211T004152Z
LAST-MODIFIED:20241211T004152Z
UID:10002464-1858447800-1858455000@resonatebrewery.com
SUMMARY:Trivia Tuesday
DESCRIPTION:Geeks Who Drink hosts our trivia every Tuesday. Bring a team or just yourself but be sure to bring your “A-Game” and let the fun begin!
URL:https://resonatebrewery.com/index.php/event/test-event-2/2028-11-21/
ATTACH;FMTTYPE=image/webp:https://resonatebrewery.com/wp-content/uploads/2024/04/GWD.webp
END:VEVENT
BEGIN:VEVENT
DTSTART;TZID=UTC:20281128T193000
DTEND;TZID=UTC:20281128T213000
DTSTAMP:20260421T205303
CREATED:20241211T004152Z
LAST-MODIFIED:20241211T004152Z
UID:10002465-1859052600-1859059800@resonatebrewery.com
SUMMARY:Trivia Tuesday
DESCRIPTION:Geeks Who Drink hosts our trivia every Tuesday. Bring a team or just yourself but be sure to bring your “A-Game” and let the fun begin!
URL:https://resonatebrewery.com/index.php/event/test-event-2/2028-11-28/
ATTACH;FMTTYPE=image/webp:https://resonatebrewery.com/wp-content/uploads/2024/04/GWD.webp
END:VEVENT
BEGIN:VEVENT
DTSTART;TZID=UTC:20281205T193000
DTEND;TZID=UTC:20281205T213000
DTSTAMP:20260421T205303
CREATED:20241211T004152Z
LAST-MODIFIED:20241211T004152Z
UID:10002466-1859657400-1859664600@resonatebrewery.com
SUMMARY:Trivia Tuesday
DESCRIPTION:Geeks Who Drink hosts our trivia every Tuesday. Bring a team or just yourself but be sure to bring your “A-Game” and let the fun begin!
URL:https://resonatebrewery.com/index.php/event/test-event-2/2028-12-05/
ATTACH;FMTTYPE=image/webp:https://resonatebrewery.com/wp-content/uploads/2024/04/GWD.webp
END:VEVENT
BEGIN:VEVENT
DTSTART;TZID=UTC:20281212T193000
DTEND;TZID=UTC:20281212T213000
DTSTAMP:20260421T205303
CREATED:20241211T004152Z
LAST-MODIFIED:20241211T004152Z
UID:10002467-1860262200-1860269400@resonatebrewery.com
SUMMARY:Trivia Tuesday
DESCRIPTION:Geeks Who Drink hosts our trivia every Tuesday. Bring a team or just yourself but be sure to bring your “A-Game” and let the fun begin!
URL:https://resonatebrewery.com/index.php/event/test-event-2/2028-12-12/
ATTACH;FMTTYPE=image/webp:https://resonatebrewery.com/wp-content/uploads/2024/04/GWD.webp
END:VEVENT
BEGIN:VEVENT
DTSTART;TZID=UTC:20281219T193000
DTEND;TZID=UTC:20281219T213000
DTSTAMP:20260421T205303
CREATED:20241211T004152Z
LAST-MODIFIED:20241211T004152Z
UID:10002468-1860867000-1860874200@resonatebrewery.com
SUMMARY:Trivia Tuesday
DESCRIPTION:Geeks Who Drink hosts our trivia every Tuesday. Bring a team or just yourself but be sure to bring your “A-Game” and let the fun begin!
URL:https://resonatebrewery.com/index.php/event/test-event-2/2028-12-19/
ATTACH;FMTTYPE=image/webp:https://resonatebrewery.com/wp-content/uploads/2024/04/GWD.webp
END:VEVENT
BEGIN:VEVENT
DTSTART;TZID=UTC:20281226T193000
DTEND;TZID=UTC:20281226T213000
DTSTAMP:20260421T205303
CREATED:20241211T004152Z
LAST-MODIFIED:20241211T004152Z
UID:10002469-1861471800-1861479000@resonatebrewery.com
SUMMARY:Trivia Tuesday
DESCRIPTION:Geeks Who Drink hosts our trivia every Tuesday. Bring a team or just yourself but be sure to bring your “A-Game” and let the fun begin!
URL:https://resonatebrewery.com/index.php/event/test-event-2/2028-12-26/
ATTACH;FMTTYPE=image/webp:https://resonatebrewery.com/wp-content/uploads/2024/04/GWD.webp
END:VEVENT
BEGIN:VEVENT
DTSTART;TZID=UTC:20290102T193000
DTEND;TZID=UTC:20290102T213000
DTSTAMP:20260421T205303
CREATED:20241211T004152Z
LAST-MODIFIED:20241211T004152Z
UID:10002470-1862076600-1862083800@resonatebrewery.com
SUMMARY:Trivia Tuesday
DESCRIPTION:Geeks Who Drink hosts our trivia every Tuesday. Bring a team or just yourself but be sure to bring your “A-Game” and let the fun begin!
URL:https://resonatebrewery.com/index.php/event/test-event-2/2029-01-02/
ATTACH;FMTTYPE=image/webp:https://resonatebrewery.com/wp-content/uploads/2024/04/GWD.webp
END:VEVENT
BEGIN:VEVENT
DTSTART;TZID=UTC:20290109T193000
DTEND;TZID=UTC:20290109T213000
DTSTAMP:20260421T205303
CREATED:20241211T004152Z
LAST-MODIFIED:20241211T004152Z
UID:10002471-1862681400-1862688600@resonatebrewery.com
SUMMARY:Trivia Tuesday
DESCRIPTION:Geeks Who Drink hosts our trivia every Tuesday. Bring a team or just yourself but be sure to bring your “A-Game” and let the fun begin!
URL:https://resonatebrewery.com/index.php/event/test-event-2/2029-01-09/
ATTACH;FMTTYPE=image/webp:https://resonatebrewery.com/wp-content/uploads/2024/04/GWD.webp
END:VEVENT
BEGIN:VEVENT
DTSTART;TZID=UTC:20290116T193000
DTEND;TZID=UTC:20290116T213000
DTSTAMP:20260421T205303
CREATED:20241211T004152Z
LAST-MODIFIED:20241211T004152Z
UID:10002472-1863286200-1863293400@resonatebrewery.com
SUMMARY:Trivia Tuesday
DESCRIPTION:Geeks Who Drink hosts our trivia every Tuesday. Bring a team or just yourself but be sure to bring your “A-Game” and let the fun begin!
URL:https://resonatebrewery.com/index.php/event/test-event-2/2029-01-16/
ATTACH;FMTTYPE=image/webp:https://resonatebrewery.com/wp-content/uploads/2024/04/GWD.webp
END:VEVENT
BEGIN:VEVENT
DTSTART;TZID=UTC:20290123T193000
DTEND;TZID=UTC:20290123T213000
DTSTAMP:20260421T205303
CREATED:20241211T004152Z
LAST-MODIFIED:20241211T004152Z
UID:10002473-1863891000-1863898200@resonatebrewery.com
SUMMARY:Trivia Tuesday
DESCRIPTION:Geeks Who Drink hosts our trivia every Tuesday. Bring a team or just yourself but be sure to bring your “A-Game” and let the fun begin!
URL:https://resonatebrewery.com/index.php/event/test-event-2/2029-01-23/
ATTACH;FMTTYPE=image/webp:https://resonatebrewery.com/wp-content/uploads/2024/04/GWD.webp
END:VEVENT
BEGIN:VEVENT
DTSTART;TZID=UTC:20290130T193000
DTEND;TZID=UTC:20290130T213000
DTSTAMP:20260421T205303
CREATED:20241211T004152Z
LAST-MODIFIED:20241211T004152Z
UID:10002474-1864495800-1864503000@resonatebrewery.com
SUMMARY:Trivia Tuesday
DESCRIPTION:Geeks Who Drink hosts our trivia every Tuesday. Bring a team or just yourself but be sure to bring your “A-Game” and let the fun begin!
URL:https://resonatebrewery.com/index.php/event/test-event-2/2029-01-30/
ATTACH;FMTTYPE=image/webp:https://resonatebrewery.com/wp-content/uploads/2024/04/GWD.webp
END:VEVENT
BEGIN:VEVENT
DTSTART;TZID=UTC:20290206T193000
DTEND;TZID=UTC:20290206T213000
DTSTAMP:20260421T205303
CREATED:20241211T004152Z
LAST-MODIFIED:20241211T004152Z
UID:10002475-1865100600-1865107800@resonatebrewery.com
SUMMARY:Trivia Tuesday
DESCRIPTION:Geeks Who Drink hosts our trivia every Tuesday. Bring a team or just yourself but be sure to bring your “A-Game” and let the fun begin!
URL:https://resonatebrewery.com/index.php/event/test-event-2/2029-02-06/
ATTACH;FMTTYPE=image/webp:https://resonatebrewery.com/wp-content/uploads/2024/04/GWD.webp
END:VEVENT
BEGIN:VEVENT
DTSTART;TZID=UTC:20290213T193000
DTEND;TZID=UTC:20290213T213000
DTSTAMP:20260421T205303
CREATED:20241211T004152Z
LAST-MODIFIED:20241211T004152Z
UID:10002476-1865705400-1865712600@resonatebrewery.com
SUMMARY:Trivia Tuesday
DESCRIPTION:Geeks Who Drink hosts our trivia every Tuesday. Bring a team or just yourself but be sure to bring your “A-Game” and let the fun begin!
URL:https://resonatebrewery.com/index.php/event/test-event-2/2029-02-13/
ATTACH;FMTTYPE=image/webp:https://resonatebrewery.com/wp-content/uploads/2024/04/GWD.webp
END:VEVENT
BEGIN:VEVENT
DTSTART;TZID=UTC:20290220T193000
DTEND;TZID=UTC:20290220T213000
DTSTAMP:20260421T205303
CREATED:20241211T004152Z
LAST-MODIFIED:20241211T004152Z
UID:10002477-1866310200-1866317400@resonatebrewery.com
SUMMARY:Trivia Tuesday
DESCRIPTION:Geeks Who Drink hosts our trivia every Tuesday. Bring a team or just yourself but be sure to bring your “A-Game” and let the fun begin!
URL:https://resonatebrewery.com/index.php/event/test-event-2/2029-02-20/
ATTACH;FMTTYPE=image/webp:https://resonatebrewery.com/wp-content/uploads/2024/04/GWD.webp
END:VEVENT
BEGIN:VEVENT
DTSTART;TZID=UTC:20290227T193000
DTEND;TZID=UTC:20290227T213000
DTSTAMP:20260421T205303
CREATED:20241211T004152Z
LAST-MODIFIED:20241211T004152Z
UID:10002478-1866915000-1866922200@resonatebrewery.com
SUMMARY:Trivia Tuesday
DESCRIPTION:Geeks Who Drink hosts our trivia every Tuesday. Bring a team or just yourself but be sure to bring your “A-Game” and let the fun begin!
URL:https://resonatebrewery.com/index.php/event/test-event-2/2029-02-27/
ATTACH;FMTTYPE=image/webp:https://resonatebrewery.com/wp-content/uploads/2024/04/GWD.webp
END:VEVENT
END:VCALENDAR