BEGIN:VCALENDAR
VERSION:2.0
PRODID:-//Resonate Brewery - ECPv6.15.20//NONSGML v1.0//EN
CALSCALE:GREGORIAN
METHOD:PUBLISH
X-WR-CALNAME:Resonate Brewery
X-ORIGINAL-URL:https://resonatebrewery.com
X-WR-CALDESC:Events for Resonate Brewery
REFRESH-INTERVAL;VALUE=DURATION:PT1H
X-Robots-Tag:noindex
X-PUBLISHED-TTL:PT1H
BEGIN:VTIMEZONE
TZID:UTC
BEGIN:STANDARD
TZOFFSETFROM:+0000
TZOFFSETTO:+0000
TZNAME:UTC
DTSTART:20240101T000000
END:STANDARD
END:VTIMEZONE
BEGIN:VEVENT
DTSTART;TZID=UTC:20260505T193000
DTEND;TZID=UTC:20260505T213000
DTSTAMP:20260421T055748
CREATED:20241211T004152Z
LAST-MODIFIED:20241211T004152Z
UID:10002331-1778009400-1778016600@resonatebrewery.com
SUMMARY:Trivia Tuesday
DESCRIPTION:Geeks Who Drink hosts our trivia every Tuesday. Bring a team or just yourself but be sure to bring your “A-Game” and let the fun begin!
URL:https://resonatebrewery.com/index.php/event/test-event-2/2026-05-05/
ATTACH;FMTTYPE=image/webp:https://resonatebrewery.com/wp-content/uploads/2024/04/GWD.webp
END:VEVENT
BEGIN:VEVENT
DTSTART;TZID=UTC:20260428T193000
DTEND;TZID=UTC:20260428T213000
DTSTAMP:20260421T055748
CREATED:20241211T004152Z
LAST-MODIFIED:20241211T004152Z
UID:10002330-1777404600-1777411800@resonatebrewery.com
SUMMARY:Trivia Tuesday
DESCRIPTION:Geeks Who Drink hosts our trivia every Tuesday. Bring a team or just yourself but be sure to bring your “A-Game” and let the fun begin!
URL:https://resonatebrewery.com/index.php/event/test-event-2/2026-04-28/
ATTACH;FMTTYPE=image/webp:https://resonatebrewery.com/wp-content/uploads/2024/04/GWD.webp
END:VEVENT
BEGIN:VEVENT
DTSTART;TZID=UTC:20260421T193000
DTEND;TZID=UTC:20260421T213000
DTSTAMP:20260421T055748
CREATED:20241211T004152Z
LAST-MODIFIED:20241211T004152Z
UID:10002329-1776799800-1776807000@resonatebrewery.com
SUMMARY:Trivia Tuesday
DESCRIPTION:Geeks Who Drink hosts our trivia every Tuesday. Bring a team or just yourself but be sure to bring your “A-Game” and let the fun begin!
URL:https://resonatebrewery.com/index.php/event/test-event-2/2026-04-21/
ATTACH;FMTTYPE=image/webp:https://resonatebrewery.com/wp-content/uploads/2024/04/GWD.webp
END:VEVENT
BEGIN:VEVENT
DTSTART;TZID=UTC:20260414T193000
DTEND;TZID=UTC:20260414T213000
DTSTAMP:20260421T055748
CREATED:20241211T004152Z
LAST-MODIFIED:20241211T004152Z
UID:10002328-1776195000-1776202200@resonatebrewery.com
SUMMARY:Trivia Tuesday
DESCRIPTION:Geeks Who Drink hosts our trivia every Tuesday. Bring a team or just yourself but be sure to bring your “A-Game” and let the fun begin!
URL:https://resonatebrewery.com/index.php/event/test-event-2/2026-04-14/
ATTACH;FMTTYPE=image/webp:https://resonatebrewery.com/wp-content/uploads/2024/04/GWD.webp
END:VEVENT
BEGIN:VEVENT
DTSTART;TZID=UTC:20260407T193000
DTEND;TZID=UTC:20260407T213000
DTSTAMP:20260421T055748
CREATED:20241211T004152Z
LAST-MODIFIED:20241211T004152Z
UID:10002327-1775590200-1775597400@resonatebrewery.com
SUMMARY:Trivia Tuesday
DESCRIPTION:Geeks Who Drink hosts our trivia every Tuesday. Bring a team or just yourself but be sure to bring your “A-Game” and let the fun begin!
URL:https://resonatebrewery.com/index.php/event/test-event-2/2026-04-07/
ATTACH;FMTTYPE=image/webp:https://resonatebrewery.com/wp-content/uploads/2024/04/GWD.webp
END:VEVENT
BEGIN:VEVENT
DTSTART;TZID=UTC:20260331T193000
DTEND;TZID=UTC:20260331T213000
DTSTAMP:20260421T055748
CREATED:20241211T004152Z
LAST-MODIFIED:20241211T004152Z
UID:10002326-1774985400-1774992600@resonatebrewery.com
SUMMARY:Trivia Tuesday
DESCRIPTION:Geeks Who Drink hosts our trivia every Tuesday. Bring a team or just yourself but be sure to bring your “A-Game” and let the fun begin!
URL:https://resonatebrewery.com/index.php/event/test-event-2/2026-03-31/
ATTACH;FMTTYPE=image/webp:https://resonatebrewery.com/wp-content/uploads/2024/04/GWD.webp
END:VEVENT
BEGIN:VEVENT
DTSTART;TZID=UTC:20260324T193000
DTEND;TZID=UTC:20260324T213000
DTSTAMP:20260421T055748
CREATED:20241211T004152Z
LAST-MODIFIED:20241211T004152Z
UID:10002325-1774380600-1774387800@resonatebrewery.com
SUMMARY:Trivia Tuesday
DESCRIPTION:Geeks Who Drink hosts our trivia every Tuesday. Bring a team or just yourself but be sure to bring your “A-Game” and let the fun begin!
URL:https://resonatebrewery.com/index.php/event/test-event-2/2026-03-24/
ATTACH;FMTTYPE=image/webp:https://resonatebrewery.com/wp-content/uploads/2024/04/GWD.webp
END:VEVENT
BEGIN:VEVENT
DTSTART;TZID=UTC:20260317T193000
DTEND;TZID=UTC:20260317T213000
DTSTAMP:20260421T055748
CREATED:20241211T004152Z
LAST-MODIFIED:20241211T004152Z
UID:10002324-1773775800-1773783000@resonatebrewery.com
SUMMARY:Trivia Tuesday
DESCRIPTION:Geeks Who Drink hosts our trivia every Tuesday. Bring a team or just yourself but be sure to bring your “A-Game” and let the fun begin!
URL:https://resonatebrewery.com/index.php/event/test-event-2/2026-03-17/
ATTACH;FMTTYPE=image/webp:https://resonatebrewery.com/wp-content/uploads/2024/04/GWD.webp
END:VEVENT
BEGIN:VEVENT
DTSTART;TZID=UTC:20260310T193000
DTEND;TZID=UTC:20260310T213000
DTSTAMP:20260421T055748
CREATED:20241211T004152Z
LAST-MODIFIED:20241211T004152Z
UID:10002323-1773171000-1773178200@resonatebrewery.com
SUMMARY:Trivia Tuesday
DESCRIPTION:Geeks Who Drink hosts our trivia every Tuesday. Bring a team or just yourself but be sure to bring your “A-Game” and let the fun begin!
URL:https://resonatebrewery.com/index.php/event/test-event-2/2026-03-10/
ATTACH;FMTTYPE=image/webp:https://resonatebrewery.com/wp-content/uploads/2024/04/GWD.webp
END:VEVENT
BEGIN:VEVENT
DTSTART;TZID=UTC:20260303T193000
DTEND;TZID=UTC:20260303T213000
DTSTAMP:20260421T055748
CREATED:20241211T004152Z
LAST-MODIFIED:20241211T004152Z
UID:10002322-1772566200-1772573400@resonatebrewery.com
SUMMARY:Trivia Tuesday
DESCRIPTION:Geeks Who Drink hosts our trivia every Tuesday. Bring a team or just yourself but be sure to bring your “A-Game” and let the fun begin!
URL:https://resonatebrewery.com/index.php/event/test-event-2/2026-03-03/
ATTACH;FMTTYPE=image/webp:https://resonatebrewery.com/wp-content/uploads/2024/04/GWD.webp
END:VEVENT
BEGIN:VEVENT
DTSTART;TZID=UTC:20260224T193000
DTEND;TZID=UTC:20260224T213000
DTSTAMP:20260421T055748
CREATED:20241211T004152Z
LAST-MODIFIED:20241211T004152Z
UID:10002321-1771961400-1771968600@resonatebrewery.com
SUMMARY:Trivia Tuesday
DESCRIPTION:Geeks Who Drink hosts our trivia every Tuesday. Bring a team or just yourself but be sure to bring your “A-Game” and let the fun begin!
URL:https://resonatebrewery.com/index.php/event/test-event-2/2026-02-24/
ATTACH;FMTTYPE=image/webp:https://resonatebrewery.com/wp-content/uploads/2024/04/GWD.webp
END:VEVENT
BEGIN:VEVENT
DTSTART;TZID=UTC:20260217T193000
DTEND;TZID=UTC:20260217T213000
DTSTAMP:20260421T055748
CREATED:20241211T004152Z
LAST-MODIFIED:20241211T004152Z
UID:10002320-1771356600-1771363800@resonatebrewery.com
SUMMARY:Trivia Tuesday
DESCRIPTION:Geeks Who Drink hosts our trivia every Tuesday. Bring a team or just yourself but be sure to bring your “A-Game” and let the fun begin!
URL:https://resonatebrewery.com/index.php/event/test-event-2/2026-02-17/
ATTACH;FMTTYPE=image/webp:https://resonatebrewery.com/wp-content/uploads/2024/04/GWD.webp
END:VEVENT
BEGIN:VEVENT
DTSTART;TZID=UTC:20260210T193000
DTEND;TZID=UTC:20260210T213000
DTSTAMP:20260421T055748
CREATED:20241211T004152Z
LAST-MODIFIED:20241211T004152Z
UID:10002319-1770751800-1770759000@resonatebrewery.com
SUMMARY:Trivia Tuesday
DESCRIPTION:Geeks Who Drink hosts our trivia every Tuesday. Bring a team or just yourself but be sure to bring your “A-Game” and let the fun begin!
URL:https://resonatebrewery.com/index.php/event/test-event-2/2026-02-10/
ATTACH;FMTTYPE=image/webp:https://resonatebrewery.com/wp-content/uploads/2024/04/GWD.webp
END:VEVENT
BEGIN:VEVENT
DTSTART;TZID=UTC:20260203T193000
DTEND;TZID=UTC:20260203T213000
DTSTAMP:20260421T055748
CREATED:20241211T004152Z
LAST-MODIFIED:20241211T004152Z
UID:10002318-1770147000-1770154200@resonatebrewery.com
SUMMARY:Trivia Tuesday
DESCRIPTION:Geeks Who Drink hosts our trivia every Tuesday. Bring a team or just yourself but be sure to bring your “A-Game” and let the fun begin!
URL:https://resonatebrewery.com/index.php/event/test-event-2/2026-02-03/
ATTACH;FMTTYPE=image/webp:https://resonatebrewery.com/wp-content/uploads/2024/04/GWD.webp
END:VEVENT
BEGIN:VEVENT
DTSTART;TZID=UTC:20260127T193000
DTEND;TZID=UTC:20260127T213000
DTSTAMP:20260421T055748
CREATED:20241211T004152Z
LAST-MODIFIED:20241211T004152Z
UID:10002317-1769542200-1769549400@resonatebrewery.com
SUMMARY:Trivia Tuesday
DESCRIPTION:Geeks Who Drink hosts our trivia every Tuesday. Bring a team or just yourself but be sure to bring your “A-Game” and let the fun begin!
URL:https://resonatebrewery.com/index.php/event/test-event-2/2026-01-27/
ATTACH;FMTTYPE=image/webp:https://resonatebrewery.com/wp-content/uploads/2024/04/GWD.webp
END:VEVENT
BEGIN:VEVENT
DTSTART;TZID=UTC:20260120T193000
DTEND;TZID=UTC:20260120T213000
DTSTAMP:20260421T055748
CREATED:20241211T004152Z
LAST-MODIFIED:20241211T004152Z
UID:10002316-1768937400-1768944600@resonatebrewery.com
SUMMARY:Trivia Tuesday
DESCRIPTION:Geeks Who Drink hosts our trivia every Tuesday. Bring a team or just yourself but be sure to bring your “A-Game” and let the fun begin!
URL:https://resonatebrewery.com/index.php/event/test-event-2/2026-01-20/
ATTACH;FMTTYPE=image/webp:https://resonatebrewery.com/wp-content/uploads/2024/04/GWD.webp
END:VEVENT
BEGIN:VEVENT
DTSTART;TZID=UTC:20260113T193000
DTEND;TZID=UTC:20260113T213000
DTSTAMP:20260421T055748
CREATED:20241211T004152Z
LAST-MODIFIED:20241211T004152Z
UID:10002315-1768332600-1768339800@resonatebrewery.com
SUMMARY:Trivia Tuesday
DESCRIPTION:Geeks Who Drink hosts our trivia every Tuesday. Bring a team or just yourself but be sure to bring your “A-Game” and let the fun begin!
URL:https://resonatebrewery.com/index.php/event/test-event-2/2026-01-13/
ATTACH;FMTTYPE=image/webp:https://resonatebrewery.com/wp-content/uploads/2024/04/GWD.webp
END:VEVENT
BEGIN:VEVENT
DTSTART;TZID=UTC:20260106T193000
DTEND;TZID=UTC:20260106T213000
DTSTAMP:20260421T055748
CREATED:20241211T004152Z
LAST-MODIFIED:20241211T004152Z
UID:10002314-1767727800-1767735000@resonatebrewery.com
SUMMARY:Trivia Tuesday
DESCRIPTION:Geeks Who Drink hosts our trivia every Tuesday. Bring a team or just yourself but be sure to bring your “A-Game” and let the fun begin!
URL:https://resonatebrewery.com/index.php/event/test-event-2/2026-01-06/
ATTACH;FMTTYPE=image/webp:https://resonatebrewery.com/wp-content/uploads/2024/04/GWD.webp
END:VEVENT
BEGIN:VEVENT
DTSTART;TZID=UTC:20251230T193000
DTEND;TZID=UTC:20251230T213000
DTSTAMP:20260421T055748
CREATED:20241211T004152Z
LAST-MODIFIED:20241211T004152Z
UID:10002313-1767123000-1767130200@resonatebrewery.com
SUMMARY:Trivia Tuesday
DESCRIPTION:Geeks Who Drink hosts our trivia every Tuesday. Bring a team or just yourself but be sure to bring your “A-Game” and let the fun begin!
URL:https://resonatebrewery.com/index.php/event/test-event-2/2025-12-30/
ATTACH;FMTTYPE=image/webp:https://resonatebrewery.com/wp-content/uploads/2024/04/GWD.webp
END:VEVENT
BEGIN:VEVENT
DTSTART;TZID=UTC:20251223T193000
DTEND;TZID=UTC:20251223T213000
DTSTAMP:20260421T055748
CREATED:20241211T004152Z
LAST-MODIFIED:20241211T004152Z
UID:10002312-1766518200-1766525400@resonatebrewery.com
SUMMARY:Trivia Tuesday
DESCRIPTION:Geeks Who Drink hosts our trivia every Tuesday. Bring a team or just yourself but be sure to bring your “A-Game” and let the fun begin!
URL:https://resonatebrewery.com/index.php/event/test-event-2/2025-12-23/
ATTACH;FMTTYPE=image/webp:https://resonatebrewery.com/wp-content/uploads/2024/04/GWD.webp
END:VEVENT
BEGIN:VEVENT
DTSTART;TZID=UTC:20251216T193000
DTEND;TZID=UTC:20251216T213000
DTSTAMP:20260421T055748
CREATED:20241211T004152Z
LAST-MODIFIED:20241211T004152Z
UID:10002311-1765913400-1765920600@resonatebrewery.com
SUMMARY:Trivia Tuesday
DESCRIPTION:Geeks Who Drink hosts our trivia every Tuesday. Bring a team or just yourself but be sure to bring your “A-Game” and let the fun begin!
URL:https://resonatebrewery.com/index.php/event/test-event-2/2025-12-16/
ATTACH;FMTTYPE=image/webp:https://resonatebrewery.com/wp-content/uploads/2024/04/GWD.webp
END:VEVENT
BEGIN:VEVENT
DTSTART;TZID=UTC:20251209T193000
DTEND;TZID=UTC:20251209T213000
DTSTAMP:20260421T055748
CREATED:20241211T004152Z
LAST-MODIFIED:20241211T004152Z
UID:10002310-1765308600-1765315800@resonatebrewery.com
SUMMARY:Trivia Tuesday
DESCRIPTION:Geeks Who Drink hosts our trivia every Tuesday. Bring a team or just yourself but be sure to bring your “A-Game” and let the fun begin!
URL:https://resonatebrewery.com/index.php/event/test-event-2/2025-12-09/
ATTACH;FMTTYPE=image/webp:https://resonatebrewery.com/wp-content/uploads/2024/04/GWD.webp
END:VEVENT
BEGIN:VEVENT
DTSTART;TZID=UTC:20251202T193000
DTEND;TZID=UTC:20251202T213000
DTSTAMP:20260421T055748
CREATED:20241211T004152Z
LAST-MODIFIED:20241211T004152Z
UID:10002309-1764703800-1764711000@resonatebrewery.com
SUMMARY:Trivia Tuesday
DESCRIPTION:Geeks Who Drink hosts our trivia every Tuesday. Bring a team or just yourself but be sure to bring your “A-Game” and let the fun begin!
URL:https://resonatebrewery.com/index.php/event/test-event-2/2025-12-02/
ATTACH;FMTTYPE=image/webp:https://resonatebrewery.com/wp-content/uploads/2024/04/GWD.webp
END:VEVENT
BEGIN:VEVENT
DTSTART;TZID=UTC:20251125T193000
DTEND;TZID=UTC:20251125T213000
DTSTAMP:20260421T055748
CREATED:20241211T004152Z
LAST-MODIFIED:20241211T004152Z
UID:10002308-1764099000-1764106200@resonatebrewery.com
SUMMARY:Trivia Tuesday
DESCRIPTION:Geeks Who Drink hosts our trivia every Tuesday. Bring a team or just yourself but be sure to bring your “A-Game” and let the fun begin!
URL:https://resonatebrewery.com/index.php/event/test-event-2/2025-11-25/
ATTACH;FMTTYPE=image/webp:https://resonatebrewery.com/wp-content/uploads/2024/04/GWD.webp
END:VEVENT
BEGIN:VEVENT
DTSTART;TZID=UTC:20251118T193000
DTEND;TZID=UTC:20251118T213000
DTSTAMP:20260421T055748
CREATED:20241211T004152Z
LAST-MODIFIED:20241211T004152Z
UID:10002307-1763494200-1763501400@resonatebrewery.com
SUMMARY:Trivia Tuesday
DESCRIPTION:Geeks Who Drink hosts our trivia every Tuesday. Bring a team or just yourself but be sure to bring your “A-Game” and let the fun begin!
URL:https://resonatebrewery.com/index.php/event/test-event-2/2025-11-18/
ATTACH;FMTTYPE=image/webp:https://resonatebrewery.com/wp-content/uploads/2024/04/GWD.webp
END:VEVENT
BEGIN:VEVENT
DTSTART;TZID=UTC:20251111T193000
DTEND;TZID=UTC:20251111T213000
DTSTAMP:20260421T055748
CREATED:20241211T004152Z
LAST-MODIFIED:20241211T004152Z
UID:10002306-1762889400-1762896600@resonatebrewery.com
SUMMARY:Trivia Tuesday
DESCRIPTION:Geeks Who Drink hosts our trivia every Tuesday. Bring a team or just yourself but be sure to bring your “A-Game” and let the fun begin!
URL:https://resonatebrewery.com/index.php/event/test-event-2/2025-11-11/
ATTACH;FMTTYPE=image/webp:https://resonatebrewery.com/wp-content/uploads/2024/04/GWD.webp
END:VEVENT
BEGIN:VEVENT
DTSTART;TZID=UTC:20251104T193000
DTEND;TZID=UTC:20251104T213000
DTSTAMP:20260421T055748
CREATED:20241211T004152Z
LAST-MODIFIED:20241211T004152Z
UID:10002305-1762284600-1762291800@resonatebrewery.com
SUMMARY:Trivia Tuesday
DESCRIPTION:Geeks Who Drink hosts our trivia every Tuesday. Bring a team or just yourself but be sure to bring your “A-Game” and let the fun begin!
URL:https://resonatebrewery.com/index.php/event/test-event-2/2025-11-04/
ATTACH;FMTTYPE=image/webp:https://resonatebrewery.com/wp-content/uploads/2024/04/GWD.webp
END:VEVENT
BEGIN:VEVENT
DTSTART;TZID=UTC:20251028T193000
DTEND;TZID=UTC:20251028T213000
DTSTAMP:20260421T055748
CREATED:20241211T004152Z
LAST-MODIFIED:20241211T004152Z
UID:10002304-1761679800-1761687000@resonatebrewery.com
SUMMARY:Trivia Tuesday
DESCRIPTION:Geeks Who Drink hosts our trivia every Tuesday. Bring a team or just yourself but be sure to bring your “A-Game” and let the fun begin!
URL:https://resonatebrewery.com/index.php/event/test-event-2/2025-10-28/
ATTACH;FMTTYPE=image/webp:https://resonatebrewery.com/wp-content/uploads/2024/04/GWD.webp
END:VEVENT
BEGIN:VEVENT
DTSTART;TZID=UTC:20251021T193000
DTEND;TZID=UTC:20251021T213000
DTSTAMP:20260421T055748
CREATED:20241211T004152Z
LAST-MODIFIED:20241211T004152Z
UID:10002303-1761075000-1761082200@resonatebrewery.com
SUMMARY:Trivia Tuesday
DESCRIPTION:Geeks Who Drink hosts our trivia every Tuesday. Bring a team or just yourself but be sure to bring your “A-Game” and let the fun begin!
URL:https://resonatebrewery.com/index.php/event/test-event-2/2025-10-21/
ATTACH;FMTTYPE=image/webp:https://resonatebrewery.com/wp-content/uploads/2024/04/GWD.webp
END:VEVENT
BEGIN:VEVENT
DTSTART;TZID=UTC:20251014T193000
DTEND;TZID=UTC:20251014T213000
DTSTAMP:20260421T055748
CREATED:20241211T004152Z
LAST-MODIFIED:20241211T004152Z
UID:10002302-1760470200-1760477400@resonatebrewery.com
SUMMARY:Trivia Tuesday
DESCRIPTION:Geeks Who Drink hosts our trivia every Tuesday. Bring a team or just yourself but be sure to bring your “A-Game” and let the fun begin!
URL:https://resonatebrewery.com/index.php/event/test-event-2/2025-10-14/
ATTACH;FMTTYPE=image/webp:https://resonatebrewery.com/wp-content/uploads/2024/04/GWD.webp
END:VEVENT
END:VCALENDAR